BEGIN:VCALENDAR
VERSION:2.0
PRODID:-//American International Club of Zurich - ECPv6.15.20//NONSGML v1.0//EN
CALSCALE:GREGORIAN
METHOD:PUBLISH
X-WR-CALNAME:American International Club of Zurich
X-ORIGINAL-URL:https://aicz.ch
X-WR-CALDESC:Events for American International Club of Zurich
REFRESH-INTERVAL;VALUE=DURATION:PT1H
X-Robots-Tag:noindex
X-PUBLISHED-TTL:PT1H
BEGIN:VTIMEZONE
TZID:Europe/Zurich
BEGIN:DAYLIGHT
TZOFFSETFROM:+0100
TZOFFSETTO:+0200
TZNAME:CEST
DTSTART:20230326T010000
END:DAYLIGHT
BEGIN:STANDARD
TZOFFSETFROM:+0200
TZOFFSETTO:+0100
TZNAME:CET
DTSTART:20231029T010000
END:STANDARD
BEGIN:DAYLIGHT
TZOFFSETFROM:+0100
TZOFFSETTO:+0200
TZNAME:CEST
DTSTART:20240331T010000
END:DAYLIGHT
BEGIN:STANDARD
TZOFFSETFROM:+0200
TZOFFSETTO:+0100
TZNAME:CET
DTSTART:20241027T010000
END:STANDARD
BEGIN:DAYLIGHT
TZOFFSETFROM:+0100
TZOFFSETTO:+0200
TZNAME:CEST
DTSTART:20250330T010000
END:DAYLIGHT
BEGIN:STANDARD
TZOFFSETFROM:+0200
TZOFFSETTO:+0100
TZNAME:CET
DTSTART:20251026T010000
END:STANDARD
BEGIN:DAYLIGHT
TZOFFSETFROM:+0100
TZOFFSETTO:+0200
TZNAME:CEST
DTSTART:20260329T010000
END:DAYLIGHT
BEGIN:STANDARD
TZOFFSETFROM:+0200
TZOFFSETTO:+0100
TZNAME:CET
DTSTART:20261025T010000
END:STANDARD
END:VTIMEZONE
BEGIN:VEVENT
DTSTART;TZID=Europe/Zurich:20250206T183000
DTEND;TZID=Europe/Zurich:20250206T210000
DTSTAMP:20260423T010410
CREATED:20250115T071702Z
LAST-MODIFIED:20250204T172510Z
UID:4197-1738866600-1738875600@aicz.ch
SUMMARY:Professional Networking & Interactive Learning  - February 6\, 2025 --> CANCELLED
DESCRIPTION:
URL:https://aicz.ch/event/4197/
LOCATION:Bahnhofplatz Signature\, Bahnhofquai 11\, Zurich\, 8001\, Switzerland
CATEGORIES:Event
ATTACH;FMTTYPE=image/png:https://aicz.ch/wp-content/uploads/2025/01/Screenshot-2025-01-15-at-08.16.32.png
ORGANIZER;CN="AICZ Events":MAILTO:events@future.aicz.ch
END:VEVENT
BEGIN:VEVENT
DTSTART;TZID=Europe/Zurich:20250130T183000
DTEND;TZID=Europe/Zurich:20250130T220000
DTSTAMP:20260423T010410
CREATED:20241106T122612Z
LAST-MODIFIED:20241106T122655Z
UID:4060-1738261800-1738274400@aicz.ch
SUMMARY:Fondue Evening\, January 30\, 2025
DESCRIPTION:Eventfrog link here
URL:https://aicz.ch/event/fondue-evening-january-30-2025/
LOCATION:Restaurant Burgwies\, Forchstrasse 271\, Zurich\, 8008\, Switzerland
CATEGORIES:Event
ATTACH;FMTTYPE=image/png:https://aicz.ch/wp-content/uploads/2023/11/Fonduepix.png
ORGANIZER;CN="AICZ Events":MAILTO:events@future.aicz.ch
END:VEVENT
BEGIN:VEVENT
DTSTART;TZID=Europe/Zurich:20250124T200000
DTEND;TZID=Europe/Zurich:20250126T120000
DTSTAMP:20260423T010410
CREATED:20241128T124140Z
LAST-MODIFIED:20241203T133801Z
UID:4081-1737748800-1737892800@aicz.ch
SUMMARY:Festival of Lights weekend event\, January 24 - 26\, 2024
DESCRIPTION:  \n\n \n  \nJoin AIC Geneva and Zurich weekend event in charming medieval Murten/Morat\, named the Swiss Village of 2024! \nDates: Friday and Saturday night\, the 24th and 25th of January 2025 \nTheme:  Festival of Lights\, Castle Hotel\, and Fondue/Raclette! \nOrganizers:  John Moetteli and Robert Race of the respective clubs \nJoin members from both American International Clubs in a joint event on the weekend of the 24th and 25th of January\, 2025 at beautiful Schloss/Chateau Muenchenwiler\, a converted monastery.  Here’s their website: https://schloss-muenchenwiler.ch/.    If you go “Full Monty”\, you will enjoy two evenings of the incredible Festival of Lights as well as fondue and raclette\, a meal at the castle restaurant\, a museum tour\, a walk along the town’s medieval walls as well as community games!  Murten/Morat is exactly the same distance from Zurich and Geneva so is the ideal place for a joint event!  Join us and we promise: it will be unforgettable and enchanting! \nThe hotel needs a list of participants and with that list\, they will tentatively reserve the corresponding rooms.  To prime the pump\, John Moetteli of the AIC Zurich and Robert Race of the AIC Geneva are committing to going.  Do join us as the old adage is true: the more\, the merrier!  The castle currently has 40 rooms available\, 120 CHF for a single room\, and 190 CHF for a double room.  Room sharing is possible after discussing with hotel management.   Make your own reservations but know you can cancel at least 4 days before the event and get a refund!  Once you reserve\, please send John Moetteli confirmation so that he knows who is attending and so we have a number to help plan other events. \nThe castle hotel has a game room.   It also has a nice restaurant (https://schloss-muenchenwiler.ch/restaurant/)\, and so we would recommend reserving a table there for Saturday night\, but early\, say at 6PM\, so that we can escape to the Festival des Lumieres (see https://www.murtenlichtfestival.ch/ ) afterwards.  There are special offers related to the festival posted on https://fr.murtenlichtfestival.ch/angebote .   \nSo\, here’s a tentative weekend schedule: \nFRIDAY. Meet at the castle hotel at 8PM to gather for a visit to Murten for a Friday evening view of the festival (optionally\, those who can make it to the hotel restaurant for dinner can reserve separately\, but preferably starting around 6PM).  We walk down hill to the festival\, which is an easy 20 minute walk.  We spend Friday evening at the Festival\, until 11PM and return to the hotel.  Those who drive let us know so that those who join us that have difficulty walking can catch a ride. \nSATURDAY:   morning breakfast\, included with your hotel room.  So\, breakfast together to plan the day. We would do the walk around the old city walls and then a fondue/raclette lunch together somewhere in Murten.   Afterwards\, we’d visit one of the museums in Murten.  See https://www.museummurten.ch/en/  or https://fribourg.ch/fr/regionlacdemorat/.  Murten was elected the Swiss Village of the Year in 2024 by the way!  See https://fribourg.ch/fr/regionlacdemorat/actualites/morat-morat-a-ete-elu-village-suisse-de-lannee-2024/.   We’d return to the hotel for an early dinner in the castle restaurant\, and then give people two options:   go to the festival again and find a bar to have drinks and walk around or go to the game room in the castle and play games. We retire for the evening around 11PM. \nSUNDAY\, breakfast together at the castle hotel.   People would be free to return home at any time on Sunday respecting the hotel’s checkout time. \nThe schedule allows for some to spend the night only Friday or only Saturday and even just come during the day on Saturday and contact John personally at 079 406 6254 to learn where the group is at any given time. \nAs for guided tours\, this is indeed possible (see https://www.swissactivities.com/en-ch/city-tour-guided/murten-city-tour/?s=search&f=cat&lang=en-CH&currency=CHF&product_id=432&option_id=option-7645-101491&ads_source=&redirected=true).   If anyone would like to do a tour\, please let us know if you are interested so we know how many people will divide the costs.  In any case\, the goal is for everyone to try to stick together\, despite the fact that some may elect to share the costs of a private tour.  Here’s general tourist information about Murten:   https://www.touringswitzerland.com/visiting-murten-switzerland-heres-what-you-need-to-know/ and https://switzerlanding.com/visit-murten/.  \nWe look forward to seeing old friends and making new ones across the Rüschtigraben! \nBest regards\, \nJohn Moetteli & Robert Race \nAICZ and AIC GE \nPhone: +41 71 230 1000 \nEmail: moetteli@davincipartners.com
URL:https://aicz.ch/event/lumieres/
CATEGORIES:Event
ATTACH;FMTTYPE=image/png:https://aicz.ch/wp-content/uploads/2024/11/Screenshot-2024-11-28-at-13.22.53.png
END:VEVENT
BEGIN:VEVENT
DTSTART;TZID=Europe/Zurich:20250117T063000
DTEND;TZID=Europe/Zurich:20250117T210000
DTSTAMP:20260423T010410
CREATED:20241018T084204Z
LAST-MODIFIED:20250115T071025Z
UID:4022-1737095400-1737147600@aicz.ch
SUMMARY:TGIF\, January 17\, 2025 at the Terrasse/Limmatblick
DESCRIPTION:
URL:https://aicz.ch/event/tgif-january-17-2025-at-the-terrasse-river-bar/
LOCATION:Terrasse\, Limmatquai 3\, Zurich\, 8001\, Switzerland
CATEGORIES:TGIF
ATTACH;FMTTYPE=image/png:https://aicz.ch/wp-content/uploads/2023/08/TerrasseDrink-e1715757141751.png
ORGANIZER;CN="AICZ Events":MAILTO:events@future.aicz.ch
END:VEVENT
BEGIN:VEVENT
DTSTART;TZID=Europe/Zurich:20241220T183000
DTEND;TZID=Europe/Zurich:20241220T210000
DTSTAMP:20260423T010410
CREATED:20240710T131818Z
LAST-MODIFIED:20241204T064610Z
UID:3796-1734719400-1734728400@aicz.ch
SUMMARY:TGIF\, December 20\, 2024 at the Onyx Bar / Park Hyatt ***** new location just for December
DESCRIPTION:
URL:https://aicz.ch/event/tgif-december-20-2024-at-the-onyx-bar-park-hyatt-new-location-just-for-december/
LOCATION:Onyx Bar\, Park Hyatt Hotel\, Beethovenstrasse 21\, Zurich\, 8002\, Switzerland
CATEGORIES:TGIF
ATTACH;FMTTYPE=image/png:https://aicz.ch/wp-content/uploads/2023/08/OnyxPix.png
ORGANIZER;CN="AICZ Events":MAILTO:events@future.aicz.ch
END:VEVENT
BEGIN:VEVENT
DTSTART;TZID=Europe/Zurich:20241128T183000
DTEND;TZID=Europe/Zurich:20241128T220000
DTSTAMP:20260423T010410
CREATED:20240310T081926Z
LAST-MODIFIED:20241126T044827Z
UID:3364-1732818600-1732831200@aicz.ch
SUMMARY:Thanksgiving Dinner\, November 28\, 2024 - ***sold out***
DESCRIPTION: 
URL:https://aicz.ch/event/thanksgiving-dinner-november-28-2024/
LOCATION:Hotel Bourbon\, Obere Zäune 19\, Zurich\, 8001\, Switzerland
CATEGORIES:Event
ATTACH;FMTTYPE=image/jpeg:https://aicz.ch/wp-content/uploads/2021/09/PHOTO-2018-11-22-22-41-35-e1759385649541.jpg
END:VEVENT
BEGIN:VEVENT
DTSTART;TZID=Europe/Zurich:20241115T183000
DTEND;TZID=Europe/Zurich:20241115T210000
DTSTAMP:20260423T010410
CREATED:20240515T065757Z
LAST-MODIFIED:20241029T072050Z
UID:3592-1731695400-1731704400@aicz.ch
SUMMARY:TGIF\, November 15\, 2024 at the Terrasse/Limmatblick
DESCRIPTION:
URL:https://aicz.ch/event/tgif-november-2024-at-the-terrasse-river-bar-2/
LOCATION:Terrasse\, Limmatquai 3\, Zurich\, 8001\, Switzerland
CATEGORIES:TGIF
ATTACH;FMTTYPE=image/png:https://aicz.ch/wp-content/uploads/2023/08/TerrasseDrink-e1715757141751.png
ORGANIZER;CN="AICZ Events":MAILTO:events@future.aicz.ch
END:VEVENT
BEGIN:VEVENT
DTSTART;TZID=Europe/Zurich:20241106T060000
DTEND;TZID=Europe/Zurich:20241106T090000
DTSTAMP:20260423T010410
CREATED:20240919T062554Z
LAST-MODIFIED:20241029T085839Z
UID:3912-1730872800-1730883600@aicz.ch
SUMMARY:U.S. Presidential Election 2024 Breakfast\, November 6\, 2024 - WAIT LIST ONLY
DESCRIPTION:WAIT LIST ONLY – Register if you would like to be put on the list here.
URL:https://aicz.ch/event/u-s-presidential-election-2024-breakfast-november-6-2024/
LOCATION:Marriott Hotel\, Neumühlequai 42\, Zürich\, 8006\, Switzerland
ORGANIZER;CN="AICZ Events":MAILTO:events@future.aicz.ch
END:VEVENT
BEGIN:VEVENT
DTSTART;TZID=Europe/Zurich:20241025T183000
DTEND;TZID=Europe/Zurich:20241025T210000
DTSTAMP:20260423T010410
CREATED:20240515T065650Z
LAST-MODIFIED:20240721T131630Z
UID:3590-1729881000-1729890000@aicz.ch
SUMMARY:TGIF\, October 25\, 2024 at the Terrasse/River Bar *** new date***
DESCRIPTION:
URL:https://aicz.ch/event/tgif-october-18-2024-at-the-terrasse-river-bar/
LOCATION:Terrasse\, Limmatquai 3\, Zurich\, 8001\, Switzerland
CATEGORIES:TGIF
ATTACH;FMTTYPE=image/png:https://aicz.ch/wp-content/uploads/2023/11/RiverBar-e1715756198971.png
ORGANIZER;CN="AICZ Events":MAILTO:events@future.aicz.ch
END:VEVENT
BEGIN:VEVENT
DTSTART;TZID=Europe/Zurich:20241010T183000
DTEND;TZID=Europe/Zurich:20241010T210000
DTSTAMP:20260423T010410
CREATED:20240119T073618Z
LAST-MODIFIED:20241007T142849Z
UID:3296-1728585000-1728594000@aicz.ch
SUMMARY:New Members' Welcome Reception\, October 10\, 2024 - SOLD OUT
DESCRIPTION:We are sold out.
URL:https://aicz.ch/event/new-members-welcome-reception-october-10-2024/
LOCATION:Zunfthaus zur Zimmerleuten\, Limmatquai 40\, Zurich\, 8001\, Switzerland
CATEGORIES:Event
ATTACH;FMTTYPE=image/png:https://aicz.ch/wp-content/uploads/2024/01/Screenshot-2024-01-19-at-8.35.11-AM-e1715757016629.png
ORGANIZER;CN="AICZ Info.":MAILTO:info@future.aicz.ch
END:VEVENT
BEGIN:VEVENT
DTSTART;TZID=Europe/Zurich:20241003T191500
DTEND;TZID=Europe/Zurich:20241003T210000
DTSTAMP:20260423T010410
CREATED:20240813T051931Z
LAST-MODIFIED:20240813T091916Z
UID:3856-1727982900-1727989200@aicz.ch
SUMMARY:Art Lecture and Apéro Riche\, October 3\, 2024
DESCRIPTION:Our next art lecture in our series is on Edvard Munch\, the fascinating Norwegian painter from the turn of the 20th century\, to be held on Thursday\, October 3 at 19:15. This time the American Women’s Club of Zurich will also participate. It will be held through the generous support of the law offices of MME at Zollstrasse 62\, 8005 Zurich…a 5 minute walk from the main station.  \nOnce again\, the lecturer will be Leila Mebert. Leila has a degree in classical literature and archaeology\,  which she uses to provide a unique and unexpected insight into her subject. She will take us on a journey through time\, incorporating history\, philosophy\, religion\, drama\, photography and cinematography. Leila uses Art to weave a story of human history\,  which gives us a key to understand our own stories and those of the world we live in today.  \nAdvanced tickets are required. Members of both the American International and the American Women’s Clubs have an entrance fee of 50CHF. Spouses and non-members are most welcome at a fee of 60CHF. The price includes an apéro riche with an open bar. Sign up at the EventFrog\, a separate website we use for on line registration and payment for events. Please follow https://eventfrog.ch/art-lecture-aicz or the QR code below. The deadline for registration is October 2. Please note that the last two lectures were sold out several days in advance of the deadline and with the participation of the American Women’s Club we expect this event to sell out quicker.  \nFor further information\, please do not hesitate to write to daws.grubbs@future.aicz.ch.
URL:https://aicz.ch/event/art-lecture-and-apero-riche-october-3-2024/
LOCATION:MME\, Zollstrasse 62\, Zurich\, 8005\, Switzerland
CATEGORIES:Event
ATTACH;FMTTYPE=image/png:https://aicz.ch/wp-content/uploads/2024/08/Screenshot-2024-08-13-at-07.18.17.png
ORGANIZER;CN="AICZ Events":MAILTO:events@future.aicz.ch
END:VEVENT
BEGIN:VEVENT
DTSTART;TZID=Europe/Zurich:20240926T183000
DTEND;TZID=Europe/Zurich:20240926T210000
DTSTAMP:20260423T010410
CREATED:20240816T135109Z
LAST-MODIFIED:20240913T130909Z
UID:3891-1727375400-1727384400@aicz.ch
SUMMARY:Young Professionals Group - How to Be the Director of Your Life\, September 26\, 2024
DESCRIPTION:Link to Event Frog here
URL:https://aicz.ch/event/young-professionals-group-how-to-be-the-director-of-your-life-september-26-2024/
LOCATION:Bahnhofplatz Signature\, Bahnhofquai 11\, Zurich\, 8001\, Switzerland
CATEGORIES:Event
ORGANIZER;CN="AICZ Events":MAILTO:events@future.aicz.ch
END:VEVENT
BEGIN:VEVENT
DTSTART;TZID=Europe/Zurich:20240920T183000
DTEND;TZID=Europe/Zurich:20240920T210000
DTSTAMP:20260423T010410
CREATED:20240515T065328Z
LAST-MODIFIED:20240516T051553Z
UID:3586-1726857000-1726866000@aicz.ch
SUMMARY:TGIF\, September 20\, 2024 at the Rathaus Café
DESCRIPTION:
URL:https://aicz.ch/event/tgif-september-20-2024-at-rathaus-cafe/
LOCATION:Rathaus Café\, Limmatquai 61\, Zurich\, 8001\, Switzerland
CATEGORIES:TGIF
ATTACH;FMTTYPE=image/png:https://aicz.ch/wp-content/uploads/2022/04/Screen-Shot-2022-04-27-at-10.33.29-AM-e1715755016571.png
ORGANIZER;CN="AICZ Events":MAILTO:events@future.aicz.ch
END:VEVENT
BEGIN:VEVENT
DTSTART;TZID=Europe/Zurich:20240816T183000
DTEND;TZID=Europe/Zurich:20240816T210000
DTSTAMP:20260423T010410
CREATED:20240515T065158Z
LAST-MODIFIED:20240516T051733Z
UID:3584-1723833000-1723842000@aicz.ch
SUMMARY:TGIF\, August 16\, 2024 at the Rathaus Café
DESCRIPTION:
URL:https://aicz.ch/event/tgif-august-16-2024-at-the-rathaus-cafe/
LOCATION:Rathaus Café\, Limmatquai 61\, Zurich\, 8001\, Switzerland
CATEGORIES:TGIF
ATTACH;FMTTYPE=image/png:https://aicz.ch/wp-content/uploads/2022/04/Screen-Shot-2022-04-27-at-10.33.29-AM-e1715755016571.png
ORGANIZER;CN="AWCZ Events":MAILTO:artbrunch@awczurich.org
END:VEVENT
BEGIN:VEVENT
DTSTART;TZID=Europe/Zurich:20240801T100000
DTEND;TZID=Europe/Zurich:20240801T130000
DTSTAMP:20260423T010410
CREATED:20240310T081700Z
LAST-MODIFIED:20240727T164057Z
UID:3362-1722506400-1722517200@aicz.ch
SUMMARY:Farmers Brunch\, August 1\, 2024
DESCRIPTION:CHANGE OF LOCATION/NEW MEETING TIME 10:00 \n\nNew location: Sonja & Dominic Huber\, Lindenhof\, 8918 Unterlunkhofen (for details and directions see Lindenhof (schweizerbauern.ch))\n\n  \nSign up here. \n  \n \n 
URL:https://aicz.ch/event/farmers-brunch-august-1-2024/
LOCATION:Lindenhof\, Unterlunkhofen\, 8918\, Switzerland
CATEGORIES:Event
ATTACH;FMTTYPE=image/jpeg:https://aicz.ch/wp-content/uploads/2021/08/JudithGuyerFB1-e1715757054367.jpg
ORGANIZER;CN="AICZ Events":MAILTO:events@future.aicz.ch
END:VEVENT
BEGIN:VEVENT
DTSTART;TZID=Europe/Zurich:20240719T183000
DTEND;TZID=Europe/Zurich:20240719T210000
DTSTAMP:20260423T010410
CREATED:20240515T064948Z
LAST-MODIFIED:20240516T052158Z
UID:3582-1721413800-1721422800@aicz.ch
SUMMARY:TGIF\, July 19\, 2024 at the Rathaus Café
DESCRIPTION:
URL:https://aicz.ch/event/tgif-july-19-2024-at-rathaus-cafe/
LOCATION:Rathaus Café\, Limmatquai 61\, Zurich\, 8001\, Switzerland
CATEGORIES:TGIF
ATTACH;FMTTYPE=image/png:https://aicz.ch/wp-content/uploads/2022/04/Screen-Shot-2022-04-27-at-10.33.29-AM-e1715755016571.png
ORGANIZER;CN="AICZ Events":MAILTO:events@future.aicz.ch
END:VEVENT
BEGIN:VEVENT
DTSTART;TZID=Europe/Zurich:20240712T120000
DTEND;TZID=Europe/Zurich:20240712T220000
DTSTAMP:20260423T010410
CREATED:20240410T052426Z
LAST-MODIFIED:20240615T121003Z
UID:3466-1720785600-1720821600@aicz.ch
SUMMARY:Golf Outing and Dinner\, July 12\, 2024
DESCRIPTION:Register here
URL:https://aicz.ch/event/golf-outing-and-dinner-july-12-2024/
LOCATION:Golfpark Otelfingen\, Neue Riedstrasse 72\, Otelfingen\, 8112\, Switzerland
CATEGORIES:Event
ATTACH;FMTTYPE=image/jpeg:https://aicz.ch/wp-content/uploads/2024/04/IMG_5091.jpg
END:VEVENT
BEGIN:VEVENT
DTSTART;TZID=Europe/Zurich:20240704T173000
DTEND;TZID=Europe/Zurich:20240704T220000
DTSTAMP:20260423T010410
CREATED:20240310T081450Z
LAST-MODIFIED:20240703T065308Z
UID:3359-1720114200-1720130400@aicz.ch
SUMMARY:Independence Day Celebration\, July 4\, 2024 - tickets remain at regular prices
DESCRIPTION:  \n \n  \n 
URL:https://aicz.ch/event/independence-day-celebration-july-4-2024/
LOCATION:Lakeside\, Bellerivestrasse 170\, Zurich\, 8008
CATEGORIES:Event
ATTACH;FMTTYPE=image/png:https://aicz.ch/wp-content/uploads/2024/03/Screenshot-2024-03-10-at-9.12.36-AM.png
ORGANIZER;CN="AICZ Info.":MAILTO:info@future.aicz.ch
END:VEVENT
BEGIN:VEVENT
DTSTART;TZID=Europe/Zurich:20240621T183000
DTEND;TZID=Europe/Zurich:20240621T210000
DTSTAMP:20260423T010410
CREATED:20240515T063615Z
LAST-MODIFIED:20240515T063704Z
UID:3568-1718994600-1719003600@aicz.ch
SUMMARY:TGIF\, June 21\, 2024 at the Rathaus Café
DESCRIPTION:
URL:https://aicz.ch/event/tgif-june-21-2024-at-the-rathaus-cafe/
LOCATION:Rathaus Café\, Limmatquai 61\, Zurich\, 8001\, Switzerland
CATEGORIES:TGIF
ATTACH;FMTTYPE=image/png:https://aicz.ch/wp-content/uploads/2022/04/Screen-Shot-2022-04-27-at-10.33.29-AM-e1715755016571.png
ORGANIZER;CN="AICZ Events":MAILTO:events@future.aicz.ch
END:VEVENT
BEGIN:VEVENT
DTSTART;TZID=Europe/Zurich:20240613T191500
DTEND;TZID=Europe/Zurich:20240613T210000
DTSTAMP:20260423T010410
CREATED:20240416T144328Z
LAST-MODIFIED:20240611T045138Z
UID:3492-1718306100-1718312400@aicz.ch
SUMMARY:SOLD OUT - Art Lecture and Apéro Riche\, June 13\, 2024
DESCRIPTION:Event Frog Link here
URL:https://aicz.ch/event/art-lecture-june-13-2024/
LOCATION:MME\, Zollstrasse 62\, Zurich\, 8005\, Switzerland
CATEGORIES:Event
ATTACH;FMTTYPE=image/png:https://aicz.ch/wp-content/uploads/2024/04/Screenshot-2024-04-16-at-16.42.37.png
ORGANIZER;CN="AICZ Events":MAILTO:events@future.aicz.ch
END:VEVENT
BEGIN:VEVENT
DTSTART;TZID=Europe/Zurich:20240517T183000
DTEND;TZID=Europe/Zurich:20240517T210000
DTSTAMP:20260423T010410
CREATED:20231116T135110Z
LAST-MODIFIED:20240409T064551Z
UID:3199-1715970600-1715979600@aicz.ch
SUMMARY:TGIF\, May 17\, 2024
DESCRIPTION:
URL:https://aicz.ch/event/tgif-may-17-2024/
LOCATION:Terrasse\, Limmatquai 3\, Zurich\, 8001\, Switzerland
CATEGORIES:TGIF
ATTACH;FMTTYPE=image/png:https://aicz.ch/wp-content/uploads/2023/11/RiverBar-e1715756198971.png
ORGANIZER;CN="AICZ Events":MAILTO:events@future.aicz.ch
END:VEVENT
BEGIN:VEVENT
DTSTART;VALUE=DATE:20240501
DTEND;VALUE=DATE:20240502
DTSTAMP:20260423T010410
CREATED:20240310T080937Z
LAST-MODIFIED:20240313T062259Z
UID:3356-1714521600-1714607999@aicz.ch
SUMMARY:May 1\, 2024 - Hike in Zurich
DESCRIPTION:Contact Andy here
URL:https://aicz.ch/event/may-1-2024-hike-in-zurich/
CATEGORIES:Event
ATTACH;FMTTYPE=image/png:https://aicz.ch/wp-content/uploads/2024/03/Screenshot-2024-03-10-at-9.08.40-AM.png
END:VEVENT
BEGIN:VEVENT
DTSTART;TZID=Europe/Zurich:20240421T104500
DTEND;TZID=Europe/Zurich:20240421T130000
DTSTAMP:20260423T010410
CREATED:20240310T080252Z
LAST-MODIFIED:20240313T061725Z
UID:3353-1713696300-1713704400@aicz.ch
SUMMARY:Foxtrail Event - April 21\, 2024
DESCRIPTION:Eventfrog link here
URL:https://aicz.ch/event/april-21-2024-foxtrail-event/
CATEGORIES:Event
ATTACH;FMTTYPE=image/png:https://aicz.ch/wp-content/uploads/2024/03/Screenshot-2024-03-10-at-9.01.25-AM.png
END:VEVENT
BEGIN:VEVENT
DTSTART;TZID=Europe/Zurich:20240419T183000
DTEND;TZID=Europe/Zurich:20240419T210000
DTSTAMP:20260423T010410
CREATED:20231116T135004Z
LAST-MODIFIED:20240409T064511Z
UID:3197-1713551400-1713560400@aicz.ch
SUMMARY:TGIF\, April 19\, 2024
DESCRIPTION:
URL:https://aicz.ch/event/tgif-april-19-2024/
LOCATION:Terrasse\, Limmatquai 3\, Zurich\, 8001\, Switzerland
CATEGORIES:TGIF
ATTACH;FMTTYPE=image/png:https://aicz.ch/wp-content/uploads/2023/11/RiverBar-e1715756198971.png
ORGANIZER;CN="AICZ Events":MAILTO:events@future.aicz.ch
END:VEVENT
BEGIN:VEVENT
DTSTART;TZID=Europe/Zurich:20240405T180000
DTEND;TZID=Europe/Zurich:20240405T203000
DTSTAMP:20260423T010410
CREATED:20240320T194114Z
LAST-MODIFIED:20240320T194209Z
UID:3397-1712340000-1712349000@aicz.ch
SUMMARY:Voter Registration\, April 5\, 2024
DESCRIPTION:
URL:https://aicz.ch/event/voter-registration-april-5-2024/
LOCATION:American Womens Club\, Höschgasse 38\, Zurich\, 8008\, Switzerland
CATEGORIES:Event
ATTACH;FMTTYPE=image/png:https://aicz.ch/wp-content/uploads/2024/03/Screenshot-2024-03-10-at-8.44.10-AM-e1710056743693.png
END:VEVENT
BEGIN:VEVENT
DTSTART;TZID=Europe/Zurich:20240321T180000
DTEND;TZID=Europe/Zurich:20240321T220000
DTSTAMP:20260423T010410
CREATED:20220103T063847Z
LAST-MODIFIED:20240209T064312Z
UID:1803-1711044000-1711058400@aicz.ch
SUMMARY:Annual General Meeting - March 21\, 2024
DESCRIPTION:Event Frog link here.
URL:https://aicz.ch/event/annual-general-meeting-march-21-2024/
LOCATION:Restaurant zum Grünen Glas\, Entrance: Obere Zäune 16\, Zurich\, ZH\, 8001\, Switzerland
CATEGORIES:Event
ATTACH;FMTTYPE=image/jpeg:https://aicz.ch/wp-content/uploads/2022/01/DSC_0553-e1641191824332.jpg
ORGANIZER;CN="AICZ Info.":MAILTO:info@future.aicz.ch
END:VEVENT
BEGIN:VEVENT
DTSTART;TZID=Europe/Zurich:20240315T183000
DTEND;TZID=Europe/Zurich:20240315T210000
DTSTAMP:20260423T010410
CREATED:20231116T134828Z
LAST-MODIFIED:20231116T142244Z
UID:3195-1710527400-1710536400@aicz.ch
SUMMARY:TGIF\, March 15\, 2024
DESCRIPTION:
URL:https://aicz.ch/event/tgif-march-15-2024/
LOCATION:Terrasse\, Limmatquai 3\, Zurich\, 8001\, Switzerland
CATEGORIES:TGIF
ATTACH;FMTTYPE=image/png:https://aicz.ch/wp-content/uploads/2023/11/RiverBar-e1715756198971.png
ORGANIZER;CN="AICZ Events":MAILTO:events@future.aicz.ch
END:VEVENT
BEGIN:VEVENT
DTSTART;TZID=Europe/Zurich:20240229T191500
DTEND;TZID=Europe/Zurich:20240229T213000
DTSTAMP:20260423T010410
CREATED:20231116T133741Z
LAST-MODIFIED:20240123T071116Z
UID:3177-1709234100-1709242200@aicz.ch
SUMMARY:Art Lecture\, February 29\, 2024
DESCRIPTION:Art Lecture Video \nSign up here
URL:https://aicz.ch/event/art-lecture-february-29-2024/
LOCATION:MME\, Zollstrasse 62\, Zurich\, 8005\, Switzerland
CATEGORIES:Event
ATTACH;FMTTYPE=image/png:https://aicz.ch/wp-content/uploads/2023/11/ArtLecture-e1704876345623.png
ORGANIZER;CN="AICZ Info.":MAILTO:info@future.aicz.ch
END:VEVENT
BEGIN:VEVENT
DTSTART;TZID=Europe/Zurich:20240216T183000
DTEND;TZID=Europe/Zurich:20240216T210000
DTSTAMP:20260423T010410
CREATED:20231116T134727Z
LAST-MODIFIED:20231116T142311Z
UID:3193-1708108200-1708117200@aicz.ch
SUMMARY:TGIF\, February 16\, 2024
DESCRIPTION:
URL:https://aicz.ch/event/tgif-february-16-2024/
LOCATION:Terrasse\, Limmatquai 3\, Zurich\, 8001\, Switzerland
CATEGORIES:TGIF
ATTACH;FMTTYPE=image/png:https://aicz.ch/wp-content/uploads/2023/11/RiverBar-e1715756198971.png
ORGANIZER;CN="AICZ Events":MAILTO:events@future.aicz.ch
END:VEVENT
BEGIN:VEVENT
DTSTART;TZID=Europe/Zurich:20240125T183000
DTEND;TZID=Europe/Zurich:20240125T210000
DTSTAMP:20260423T010410
CREATED:20231116T102455Z
LAST-MODIFIED:20231207T100508Z
UID:3173-1706207400-1706216400@aicz.ch
SUMMARY:Fondue Evening\, January 25\, 2024
DESCRIPTION:
URL:https://aicz.ch/event/fondue-evening-january-25-2024/
LOCATION:Restaurant Burgwies\, Forchstrasse 271\, Zurich\, 8008\, Switzerland
CATEGORIES:Event
ATTACH;FMTTYPE=image/png:https://aicz.ch/wp-content/uploads/2023/11/Fonduepix.png
ORGANIZER;CN="AICZ Info.":MAILTO:info@future.aicz.ch
END:VEVENT
END:VCALENDAR