BEGIN:VCALENDAR
VERSION:2.0
PRODID:-//American International Club of Zurich - ECPv6.15.20//NONSGML v1.0//EN
CALSCALE:GREGORIAN
METHOD:PUBLISH
X-WR-CALNAME:American International Club of Zurich
X-ORIGINAL-URL:https://aicz.ch
X-WR-CALDESC:Events for American International Club of Zurich
REFRESH-INTERVAL;VALUE=DURATION:PT1H
X-Robots-Tag:noindex
X-PUBLISHED-TTL:PT1H
BEGIN:VTIMEZONE
TZID:Europe/Zurich
BEGIN:DAYLIGHT
TZOFFSETFROM:+0100
TZOFFSETTO:+0200
TZNAME:CEST
DTSTART:20210328T010000
END:DAYLIGHT
BEGIN:STANDARD
TZOFFSETFROM:+0200
TZOFFSETTO:+0100
TZNAME:CET
DTSTART:20211031T010000
END:STANDARD
BEGIN:DAYLIGHT
TZOFFSETFROM:+0100
TZOFFSETTO:+0200
TZNAME:CEST
DTSTART:20220327T010000
END:DAYLIGHT
BEGIN:STANDARD
TZOFFSETFROM:+0200
TZOFFSETTO:+0100
TZNAME:CET
DTSTART:20221030T010000
END:STANDARD
BEGIN:DAYLIGHT
TZOFFSETFROM:+0100
TZOFFSETTO:+0200
TZNAME:CEST
DTSTART:20230326T010000
END:DAYLIGHT
BEGIN:STANDARD
TZOFFSETFROM:+0200
TZOFFSETTO:+0100
TZNAME:CET
DTSTART:20231029T010000
END:STANDARD
END:VTIMEZONE
BEGIN:VEVENT
DTSTART;TZID=Europe/Zurich:20221216T183000
DTEND;TZID=Europe/Zurich:20221216T203000
DTSTAMP:20260423T122404
CREATED:20220727T073959Z
LAST-MODIFIED:20221117T092805Z
UID:2431-1671215400-1671222600@aicz.ch
SUMMARY:TGIF\, December 16\, 2022
DESCRIPTION:
URL:https://aicz.ch/event/tgif-december-16-2022/
LOCATION:Onyx Bar\, Park Hyatt Hotel\, Beethovenstrasse 21\, Zurich\, 8002\, Switzerland
CATEGORIES:TGIF
ATTACH;FMTTYPE=image/png:https://aicz.ch/wp-content/uploads/2022/07/OnyxBar.png
ORGANIZER;CN="AICZ Events":MAILTO:events@future.aicz.ch
END:VEVENT
BEGIN:VEVENT
DTSTART;TZID=Europe/Zurich:20221203T140000
DTEND;TZID=Europe/Zurich:20221203T170000
DTSTAMP:20260423T122404
CREATED:20220615T053857Z
LAST-MODIFIED:20221004T072318Z
UID:2196-1670076000-1670086800@aicz.ch
SUMMARY:Lindt World of Chocolate Tour - December 3\, 2022
DESCRIPTION:
URL:https://aicz.ch/event/lindt-chocolate-factory-tour-december-3-2022/
LOCATION:Lindt\, Seestrasse 204\, Kilchberg\, 8802\, Switzerland
CATEGORIES:Event
ATTACH;FMTTYPE=image/png:https://aicz.ch/wp-content/uploads/2022/06/Screen-Shot-2022-06-15-at-7.38.29-AM.png
ORGANIZER;CN="AICZ Events":MAILTO:events@future.aicz.ch
END:VEVENT
BEGIN:VEVENT
DTSTART;TZID=Europe/Zurich:20221126T090000
DTEND;TZID=Europe/Zurich:20221126T160000
DTSTAMP:20260423T122404
CREATED:20220913T132212Z
LAST-MODIFIED:20220913T132212Z
UID:2490-1669453200-1669478400@aicz.ch
SUMMARY:St. Andrew's Christmas Bazaar - November 26\, 2022
DESCRIPTION:
URL:https://aicz.ch/event/st-andrews-christmas-bazaar-november-26-2022/
LOCATION:Pfarreizentrum Liebfrauen Zürich\, Zehnderweg 9/Weinbergstr. 36\, Zurich\, 8006
CATEGORIES:Event
END:VEVENT
BEGIN:VEVENT
DTSTART;TZID=Europe/Zurich:20221124T180000
DTEND;TZID=Europe/Zurich:20221124T220000
DTSTAMP:20260423T122404
CREATED:20211214T093344Z
LAST-MODIFIED:20221104T063252Z
UID:1759-1669312800-1669327200@aicz.ch
SUMMARY:Thanksgiving Dinner\, November 24\, 2022 - SOLD OUT - Waitlist full
DESCRIPTION:Sorry\, we are sold out and have a long waitlist so we are no longer taking names.
URL:https://aicz.ch/event/thanksgiving-dinner-november-24-2022/
LOCATION:Wilder Mann\, Freiestrasse 221\, Zurich\, 8032\, Switzerland
CATEGORIES:Event
END:VEVENT
BEGIN:VEVENT
DTSTART;TZID=Europe/Zurich:20221118T183000
DTEND;TZID=Europe/Zurich:20221118T203000
DTSTAMP:20260423T122404
CREATED:20220727T073840Z
LAST-MODIFIED:20221115T142340Z
UID:2429-1668796200-1668803400@aicz.ch
SUMMARY:TGIF\, November 18\, 2022 - Change of Location!!
DESCRIPTION:We will meet at the River Bar at the Terrasse near Bellevue (Limmatquai 3\, 8001 Zurich).
URL:https://aicz.ch/event/tgif-november-18-2022/
LOCATION:Terrasse\, Limmatquai 3\, Zurich\, 8001\, Switzerland
CATEGORIES:TGIF
ATTACH;FMTTYPE=image/png:https://aicz.ch/wp-content/uploads/2022/07/Screenshot-2022-11-15-at-3.06.43-PM-e1669211947878.png
ORGANIZER;CN="AICZ Events":MAILTO:events@future.aicz.ch
END:VEVENT
BEGIN:VEVENT
DTSTART;TZID=Europe/Zurich:20221025T173000
DTEND;TZID=Europe/Zurich:20221025T200000
DTSTAMP:20260423T122404
CREATED:20221001T155455Z
LAST-MODIFIED:20221003T173050Z
UID:2510-1666719000-1666728000@aicz.ch
SUMMARY:Seminar: Swiss and US pension schemes – tips and pitfalls from a Swiss and a US perspective\, October 25\, 2022
DESCRIPTION:
URL:https://aicz.ch/event/free-seminar-swiss-and-us-pension-schemes-tips-and-pitfalls-from-a-swiss-and-a-us-perspective-october-25-2022/
LOCATION:Bär & Karrer AG\, Brandschenkestrasse 90\, Zurich\, 8002\, Switzerland
ORGANIZER;CN="AICZ Events":MAILTO:events@future.aicz.ch
END:VEVENT
BEGIN:VEVENT
DTSTART;TZID=Europe/Zurich:20221021T183000
DTEND;TZID=Europe/Zurich:20221021T203000
DTSTAMP:20260423T122404
CREATED:20220727T073455Z
LAST-MODIFIED:20221019T144606Z
UID:2423-1666377000-1666384200@aicz.ch
SUMMARY:Members' Welcome Reception & TGIF\, October 21\, 2022
DESCRIPTION:Only AICZ members can still register at events@future.aicz.ch
URL:https://aicz.ch/event/tgif-october-21-2022/
LOCATION:Zunfthaus zur Zimmerleuten\, Limmatquai 40\, Zurich\, 8001\, Switzerland
CATEGORIES:TGIF
ATTACH;FMTTYPE=image/png:https://aicz.ch/wp-content/uploads/2022/07/ZzZimmerleuten-e1663165186728.png
ORGANIZER;CN="AICZ Events":MAILTO:events@future.aicz.ch
END:VEVENT
BEGIN:VEVENT
DTSTART;TZID=Europe/Zurich:20220919T160000
DTEND;TZID=Europe/Zurich:20220919T200000
DTSTAMP:20260423T122404
CREATED:20220822T125430Z
LAST-MODIFIED:20220822T125741Z
UID:2467-1663603200-1663617600@aicz.ch
SUMMARY:American Women's Club Open House\, September 19\, 2022
DESCRIPTION:
URL:https://aicz.ch/event/american-womens-club-open-house-september-19-2022/
LOCATION:American Womens Club\, Höschgasse 38\, Zurich\, 8008\, Switzerland
CATEGORIES:Event
END:VEVENT
BEGIN:VEVENT
DTSTART;TZID=Europe/Zurich:20220916T183000
DTEND;TZID=Europe/Zurich:20220916T203000
DTSTAMP:20260423T122404
CREATED:20220316T091310Z
LAST-MODIFIED:20220316T091310Z
UID:2007-1663353000-1663360200@aicz.ch
SUMMARY:TGIF - September 16\, 2022
DESCRIPTION:
URL:https://aicz.ch/event/tgif-september-16-2022/
LOCATION:Rathaus Café\, Limmatquai 61\, Zurich\, 8001\, Switzerland
CATEGORIES:TGIF
ATTACH;FMTTYPE=image/jpeg:https://aicz.ch/wp-content/uploads/2022/03/tgif2-e1647421647985.jpg
END:VEVENT
BEGIN:VEVENT
DTSTART;TZID=Europe/Zurich:20220913T183000
DTEND;TZID=Europe/Zurich:20220913T203000
DTSTAMP:20260423T122404
CREATED:20220809T074935Z
LAST-MODIFIED:20220809T074948Z
UID:2455-1663093800-1663101000@aicz.ch
SUMMARY:Private Tasting of Wines and Cheeses from Switzerland\, Geneva\, September 13\, 2022
DESCRIPTION:  \nIn tribute to our host country!\nExclusive to members and friends of the Swiss Canadian Chamber of Commerce.\nCome discover and taste Swiss wines and cheeses.\nThe tasting will take place in the magnificent Lavinia cellar in the center of Geneva\, privatized for us. \nDATE: Tuesday\, September 13th from 6:30 pm to 8:30 pm\nCOST: Members: 45 CHF // Non-members: 60 CHF\nLOCATION: Lavinia\, Rue de Coutance 3 bis\, 1201 Geneva\n(Stops Coutance\, Goulart\, Bel Air\, Manor parking) \nDraw for 3 bottles of wine from Geneva !\nGuests of members and friends of the chamber are welcome. Limited number of places. \nREGISTER HERE\nPREFERRED PAYMENT METHOD: BANK TRANSFER\nBeneficiary: Canadian-Swiss Chamber of Commerce/ Bank: UBS AG\, Postfach\, CH-8098 Zürich/ Account No.:  225-P2720227.0/ IBAN:  CH57 0022 5225 P272 0227 0/ BIC: UBSWCHZH80A/ Postcheck Konto: 01-4025-1\nCredit Card payments: 1) first register directly and chose INVOICE as method of payment; 2) contact nathalie.bergeret@canswiss.ch to inform her and a Paypal link will be sent to you.\nThe Canadian-Swiss Chamber of Commerce\nLa Chambre de Commerce Canado – Suisse
URL:https://aicz.ch/event/private-tasting-of-wines-and-cheeses-from-switzerland-september-13-2022/
LOCATION:Lavinia\, Rue de Coutance 3 bis\, Geneva\, 1201\, Switzerland
CATEGORIES:Event
ATTACH;FMTTYPE=image/png:https://aicz.ch/wp-content/uploads/2022/08/Screen-Shot-2022-08-09-at-9.45.38-AM.png
END:VEVENT
BEGIN:VEVENT
DTSTART;TZID=Europe/Zurich:20220819T183000
DTEND;TZID=Europe/Zurich:20220819T203000
DTSTAMP:20260423T122405
CREATED:20220316T091204Z
LAST-MODIFIED:20220316T091204Z
UID:2005-1660933800-1660941000@aicz.ch
SUMMARY:TGIF - August 19\, 2022
DESCRIPTION:
URL:https://aicz.ch/event/tgif-august-19-2022/
LOCATION:Rathaus Café\, Limmatquai 61\, Zurich\, 8001\, Switzerland
CATEGORIES:TGIF
ATTACH;FMTTYPE=image/jpeg:https://aicz.ch/wp-content/uploads/2022/03/tgif2-e1647421647985.jpg
END:VEVENT
BEGIN:VEVENT
DTSTART;TZID=Europe/Zurich:20220801T104500
DTEND;TZID=Europe/Zurich:20220801T130000
DTSTAMP:20260423T122405
CREATED:20220725T091645Z
LAST-MODIFIED:20220804T060242Z
UID:1850-1659350700-1659358800@aicz.ch
SUMMARY:Farmer's Brunch - August 1\, 2022
DESCRIPTION:
URL:https://aicz.ch/event/farmers-brunch-august-1-2022/
LOCATION:Restaurant Schindeli\, Oberwilerstrasse 1\, Unterlunkhofen\, 8918\, Switzerland
CATEGORIES:Event
ATTACH;FMTTYPE=image/jpeg:https://aicz.ch/wp-content/uploads/2021/07/FB1.jpg
ORGANIZER;CN="AICZ Events":MAILTO:events@future.aicz.ch
END:VEVENT
BEGIN:VEVENT
DTSTART;TZID=Europe/Zurich:20220715T183000
DTEND;TZID=Europe/Zurich:20220715T203000
DTSTAMP:20260423T122405
CREATED:20220316T091047Z
LAST-MODIFIED:20220316T091047Z
UID:2003-1657909800-1657917000@aicz.ch
SUMMARY:TGIF - July 15\, 2022
DESCRIPTION:
URL:https://aicz.ch/event/tgif-july-15-2022/
LOCATION:Rathaus Café\, Limmatquai 61\, Zurich\, 8001\, Switzerland
CATEGORIES:TGIF
ATTACH;FMTTYPE=image/jpeg:https://aicz.ch/wp-content/uploads/2022/03/tgif2-e1647421647985.jpg
END:VEVENT
BEGIN:VEVENT
DTSTART;TZID=Europe/Zurich:20220703T150000
DTEND;TZID=Europe/Zurich:20220703T210000
DTSTAMP:20260423T122405
CREATED:20220215T094700Z
LAST-MODIFIED:20220614T050735Z
UID:1924-1656860400-1656882000@aicz.ch
SUMMARY:Independence Day Celebration - Sunday\, July 3\, 2022
DESCRIPTION:Download flyer here
URL:https://aicz.ch/event/independence-day-celebration-july-3-2022/
LOCATION:Restaurant Alter Tobelhof\, Tobelhofstrasse 236\, Zurich-Gockhausen\, 8044\, Switzerland
CATEGORIES:Event
ATTACH;FMTTYPE=image/jpeg:https://aicz.ch/wp-content/uploads/2022/02/J4_4-scaled-e1648454255519.jpg
ORGANIZER;CN="AICZ Info.":MAILTO:info@future.aicz.ch
END:VEVENT
BEGIN:VEVENT
DTSTART;TZID=Europe/Zurich:20220622T180000
DTEND;TZID=Europe/Zurich:20220622T210000
DTSTAMP:20260423T122405
CREATED:20220502T092314Z
LAST-MODIFIED:20220502T092314Z
UID:2089-1655920800-1655931600@aicz.ch
SUMMARY:Happy Canada Day at the Bauschänzli Biergarten - June 22
DESCRIPTION:Please come celebrate Canada’s 155rd year since Confederation with a BBQ at the beautiful Bauschänzli Biergarten & Grill in the heart of Zurich!\n\nDATE                    22 JUNE 2022 FROM 6PM TO 9PM\n \nRegistrations fees:\nCHF. 70.–            Members\nCHF. 80.–            Non-Members\n \nIncluded:\nHamburger (also for vegetarians!)\nPoutine and French fries\nCaesar salad\, speck and parmesan\nRomanoff coupe (strawberries and vanilla ice cream)\n \nCanadian wines\n2 drink tickets for beer or soft drinks\n \nA tombola will be organized with\, as 1st price\, 2 Air Canada tickets!\n \nCOME ON AND JOIN US!\n \nREGISTER HERE / INSCRIVEZ-VOUS ICI\n\nPAYMENT DETAILS\nBy Paypal or Bank tranfer to :\nBeneficiary: Canadian-Swiss Chamber of Commerce\nBank: UBS AG\, Postfach\, CH-8098 Zürich\nAccount No.:  225-P2720227.0\nIBAN:  CH57 0022 5225 P272 0227 0 \nCredit Card payments : 1) register and choose INVOICE as method of payment\, and 2) contact nathalie.bergeret@canswiss.ch to inform her.
URL:https://aicz.ch/event/happy-canada-day-at-the-bauschanzli-biergarten-june-22/
LOCATION:Bauschänzli Biergarten\, Stadthausquai 2\, Zurich\, 8001\, Switzerland
CATEGORIES:Event
ATTACH;FMTTYPE=image/jpeg:https://aicz.ch/wp-content/uploads/2022/05/unnamed-1.jpg
END:VEVENT
BEGIN:VEVENT
DTSTART;TZID=Europe/Zurich:20220619T093000
DTEND;TZID=Europe/Zurich:20220619T120000
DTSTAMP:20260423T122405
CREATED:20220509T062826Z
LAST-MODIFIED:20220614T124041Z
UID:2098-1655631000-1655640000@aicz.ch
SUMMARY:Monocle on Sunday - live broadcast - June 19
DESCRIPTION:AICZ goes “Monocle on Sunday” – live broadcast on June 19\nMonocle Shop and Café\, Dufourstrasse 90\, Zürich.  \nJoin us for “Monocle on Sunday” coming up on June 19.  The program is broadcasted live from Monocle’s radio studio in Zürich-Seefeld. Monocle’s Tyler Brûlé (Founder and Editorial Director) and a panel of special-guest thought leaders and news correspondents discuss key global topics in front of a studio audience. Learn more about the show here. \nSchedule:  \n9:30:  AICZ club members and guests need to arrive at the Monocle Cafe\, Dufourstrasse for check-in and seating in the studio area prior to the broadcast. AICZ members receive complimentary coffee and Gipfeli.  All attending may also arrive earlier (cafe opens at 8:00) and enjoy the tasty breakfast options (pay as you go). \n  \n10:00-11:00:  Monocle on Sunday live broadcast \n11:00-12:00: Informal mix and mingle on your own time \nAICZ members:  Admission complimentary (includes coffee/tea and gipfeli)\nNon-club members: Pay Monocle Shop and Cafe direct for the drinks and food you order.  \nPlease RSVP with an email to info@future.aicz.ch by this Friday\, June 17\nWe have 15 studio seats and reservations are on a first come\, first served basis.   \nExpect a lively hour of good conversation with coffee and newspapers from The Monocle Café.
URL:https://aicz.ch/event/sunday-morning-radio-show-at-monocle-june-19-tbc/
LOCATION:Monocle\, Dufourstrasse 90\, Zurich\, 8008\, Switzerland
CATEGORIES:Event
ATTACH;FMTTYPE=image/png:https://aicz.ch/wp-content/uploads/2022/05/Screen-Shot-2022-05-09-at-8.18.59-AM.png
END:VEVENT
BEGIN:VEVENT
DTSTART;TZID=Europe/Zurich:20220617T183000
DTEND;TZID=Europe/Zurich:20220617T203000
DTSTAMP:20260423T122405
CREATED:20220316T085902Z
LAST-MODIFIED:20220316T090839Z
UID:2000-1655490600-1655497800@aicz.ch
SUMMARY:TGIF - June 17\, 2022 - summer location
DESCRIPTION:
URL:https://aicz.ch/event/tgif-june-17-2022-summer-location/
LOCATION:Rathaus Café\, Limmatquai 61\, Zurich\, 8001\, Switzerland
ATTACH;FMTTYPE=image/jpeg:https://aicz.ch/wp-content/uploads/2022/03/tgif2-e1647421647985.jpg
END:VEVENT
BEGIN:VEVENT
DTSTART;TZID=Europe/Zurich:20220609T180000
DTEND;TZID=Europe/Zurich:20220609T203000
DTSTAMP:20260423T122405
CREATED:20220427T083612Z
LAST-MODIFIED:20220512T111206Z
UID:2080-1654797600-1654806600@aicz.ch
SUMMARY:Sunset Cocktails at Lakeside\, June 9\, 2022
DESCRIPTION:
URL:https://aicz.ch/event/sunset-cocktails-june-9-2022-2/
LOCATION:Lakeside\, Bellerivestrasse 170\, Zurich\, 8008
CATEGORIES:Event
ATTACH;FMTTYPE=image/png:https://aicz.ch/wp-content/uploads/2022/04/Screen-Shot-2022-05-12-at-1.07.17-PM.png
ORGANIZER;CN="AICZ Info.":MAILTO:info@future.aicz.ch
END:VEVENT
BEGIN:VEVENT
DTSTART;TZID=Europe/Zurich:20220524T173000
DTEND;TZID=Europe/Zurich:20220524T193000
DTSTAMP:20260423T122405
CREATED:20220514T154724Z
LAST-MODIFIED:20220518T053846Z
UID:2140-1653413400-1653420600@aicz.ch
SUMMARY:Swiss & US Estate Planning Webinar - May 24\, 2022
DESCRIPTION:
URL:https://aicz.ch/event/swiss-us-estate-planning-webinar-may-24-2022/
LOCATION:Online – Zoom
CATEGORIES:Event
ORGANIZER;CN="AICZ Info.":MAILTO:info@future.aicz.ch
END:VEVENT
BEGIN:VEVENT
DTSTART;TZID=Europe/Zurich:20220520T183000
DTEND;TZID=Europe/Zurich:20220520T203000
DTSTAMP:20260423T122405
CREATED:20220111T153415Z
LAST-MODIFIED:20220301T070956Z
UID:1857-1653071400-1653078600@aicz.ch
SUMMARY:TGIF - May 20\, 2022
DESCRIPTION:
URL:https://aicz.ch/event/tgif-may-20-2022/
LOCATION:Masi Bar\, Seefeldstrasse 5\, Zurich\, Switzerland
CATEGORIES:TGIF
ATTACH;FMTTYPE=image/png:https://aicz.ch/wp-content/uploads/2021/10/Screen-Shot-2021-10-21-at-8.20.49-AM-2-e1640185353567.png
ORGANIZER;CN="AICZ Events":MAILTO:events@future.aicz.ch
END:VEVENT
BEGIN:VEVENT
DTSTART;TZID=Europe/Zurich:20220518T180000
DTEND;TZID=Europe/Zurich:20220518T200000
DTSTAMP:20260423T122405
CREATED:20220420T133238Z
LAST-MODIFIED:20220429T070946Z
UID:2074-1652896800-1652904000@aicz.ch
SUMMARY:Spring Aperitif - Geneva - May 18\, 2022 (new date)
DESCRIPTION:SPRING IS HERE!\n \nAfter a break due to covid\, join us for our annual spring aperitif at the Halles de l’Ile in Geneva\, and enjoy a warm and friendly atmosphere to expand your professional network.\n \nDate:            Thursday\, May 18\, 2022 from 6:00 pm to 8:00 pm\nPlace:          Halles de l’Ile\, Place de l’Ile 1\, 1204 Geneva\nCost:             CHF 45.- members // CHF 55.- non-members \nPROMOTION\nIf you become a new member of the CSCC for 2022\, the cost for this event will be of CHF. 30.–. The annual membership fee of CHF. 155.– can be paid at the same time as the ticket for this event.\n \n \n**** RAFFLE WITH 2 FREE AIR CANADA TICKETS OFFERED BY OUR GOLD MEMBER\, AIR CANADA **** \n  \nPAYMENT: by bank transfer or Paypal.\nBeneficiary: Canadian-Swiss Chamber of Commerce \nBank: UBS AG\, Postfach\, CH-8098 Zürich \nAccount No.: 225-P2720227.0 \nIBAN: CH57 0022 5225 P272 0227 0 \nBIC: UBSWCHZH80A \nPostcheck Konto: 01-4025-1 \nFor those who would like to pay by credit card\, please contact nathalie.bergeret@canswiss.ch directly after having registered (chose INVOICE as mode of payment).\nThe Canadian-Swiss Chamber of Commerce\nLa Chambre de Commerce Canado-Suisse
URL:https://aicz.ch/event/spring-aperitif-geneva-airport-may-5-2022/
LOCATION:Halles de l’Ile\, Place de l'Ile 1\, Geneva\, 1204\, Switzerland
ATTACH;FMTTYPE=image/png:https://aicz.ch/wp-content/uploads/2022/04/Screen-Shot-2022-04-20-at-3.20.26-PM.png
END:VEVENT
BEGIN:VEVENT
DTSTART;TZID=Europe/Zurich:20220509T113000
DTEND;TZID=Europe/Zurich:20220509T140000
DTSTAMP:20260423T122405
CREATED:20220412T120158Z
LAST-MODIFIED:20220412T120158Z
UID:2063-1652095800-1652104800@aicz.ch
SUMMARY:Welcome Luncheon Ambassador Scott C. Miller - May 9\, 2022
DESCRIPTION:In order for AICZ Members to receive the reduced rate\, please contact info@future.aicz.ch for the special code.
URL:https://aicz.ch/event/welcome-luncheon-ambassador-scott-c-miller-may-9-2022/
LOCATION:Zunfthaus zur Meisen\, Münsterhof 20\, Zurich\, 8001\, Switzerland
CATEGORIES:Event
ATTACH;FMTTYPE=image/png:https://aicz.ch/wp-content/uploads/2022/04/Screen-Shot-2022-04-12-at-1.58.22-PM-e1649765290804.png
END:VEVENT
BEGIN:VEVENT
DTSTART;TZID=Europe/Zurich:20220429T183000
DTEND;TZID=Europe/Zurich:20220429T203000
DTSTAMP:20260423T122405
CREATED:20220111T153211Z
LAST-MODIFIED:20220301T071145Z
UID:1853-1651257000-1651264200@aicz.ch
SUMMARY:TGIF - April 29\, 2022
DESCRIPTION:
URL:https://aicz.ch/event/tgif-april-29-2022/
LOCATION:Masi Bar\, Seefeldstrasse 5\, Zurich\, Switzerland
CATEGORIES:TGIF
ATTACH;FMTTYPE=image/png:https://aicz.ch/wp-content/uploads/2021/10/Screen-Shot-2021-10-21-at-8.20.49-AM-2-e1640185353567.png
ORGANIZER;CN="AICZ Events":MAILTO:events@future.aicz.ch
END:VEVENT
BEGIN:VEVENT
DTSTART;TZID=Europe/Zurich:20220318T183000
DTEND;TZID=Europe/Zurich:20220318T203000
DTSTAMP:20260423T122405
CREATED:20211203T131116Z
LAST-MODIFIED:20220317T064551Z
UID:1734-1647628200-1647635400@aicz.ch
SUMMARY:TGIF - March 18\, 2022
DESCRIPTION:
URL:https://aicz.ch/event/tgif-march-18-2022/
LOCATION:Masi Bar\, Seefeldstrasse 5\, Zurich\, Switzerland
CATEGORIES:TGIF
ATTACH;FMTTYPE=image/png:https://aicz.ch/wp-content/uploads/2021/10/Screen-Shot-2021-10-21-at-8.20.49-AM-2-e1640185353567.png
END:VEVENT
BEGIN:VEVENT
DTSTART;TZID=Europe/Zurich:20220313T100000
DTEND;TZID=Europe/Zurich:20220313T130000
DTSTAMP:20260423T122405
CREATED:20220214T084905Z
LAST-MODIFIED:20220309T085643Z
UID:1912-1647165600-1647176400@aicz.ch
SUMMARY:Art Brunch at the Kunsthaus - March 13\, 2022
DESCRIPTION: 
URL:https://aicz.ch/event/art-brunch-at-the-kunsthaus-march-13-2022/
LOCATION:Kunsthaus Museum\, Heimplatz 1\, Zurich\, 8001\, Switzerland
CATEGORIES:Event
ATTACH;FMTTYPE=image/png:https://aicz.ch/wp-content/uploads/2022/02/Screen-Shot-2022-02-13-at-8.09.30-AM.png
ORGANIZER;CN="AICZ Events":MAILTO:events@future.aicz.ch
END:VEVENT
BEGIN:VEVENT
DTSTART;TZID=Europe/Zurich:20220218T183000
DTEND;TZID=Europe/Zurich:20220218T203000
DTSTAMP:20260423T122405
CREATED:20211203T130734Z
LAST-MODIFIED:20220110T084540Z
UID:1732-1645209000-1645216200@aicz.ch
SUMMARY:TGIF - February 18\, 2022
DESCRIPTION:
URL:https://aicz.ch/event/tgif-february-18-2022/
LOCATION:Masi Bar\, Seefeldstrasse 5\, Zurich\, Switzerland
CATEGORIES:TGIF
ATTACH;FMTTYPE=image/png:https://aicz.ch/wp-content/uploads/2021/10/Screen-Shot-2021-10-21-at-8.20.49-AM-2-e1640185353567.png
END:VEVENT
BEGIN:VEVENT
DTSTART;TZID=Europe/Zurich:20220217T183000
DTEND;TZID=Europe/Zurich:20220217T203000
DTSTAMP:20260423T122405
CREATED:20211223T070531Z
LAST-MODIFIED:20220111T060435Z
UID:1792-1645122600-1645129800@aicz.ch
SUMMARY:February 17\, 2022 - Blues and Bites
DESCRIPTION:
URL:https://aicz.ch/event/february-17-2022-blues-and-bites/
LOCATION:Hotel Europe\, Dufourstrasse 4\, Zurich\, 8008\, Switzerland
ATTACH;FMTTYPE=image/png:https://aicz.ch/wp-content/uploads/2021/12/Screen-Shot-2021-12-23-at-8.08.09-AM.png
ORGANIZER;CN="AICZ Events":MAILTO:events@future.aicz.ch
END:VEVENT
BEGIN:VEVENT
DTSTART;TZID=Europe/Zurich:20220202T180000
DTEND;TZID=Europe/Zurich:20220202T193000
DTSTAMP:20260423T122405
CREATED:20211203T093316Z
LAST-MODIFIED:20220114T163342Z
UID:1718-1643824800-1643830200@aicz.ch
SUMMARY:US and Swiss Tax Talk:  What you need to know as a US citizen living in Switzerland
DESCRIPTION:The American International Club of Zurich Invites you to a  \nUS and Swiss Tax Talk:  What you need to know as a US citizen living in Switzerland \nWednesday\, February 2\, 2022\, \n6:00 pm to 7:30 pm CET \nZoom Webinar \nSpeakers \n\nUS Tax Advisor: Patrick Hoza\, US Tax & Financial Services Ltd (enquiries.ch@ustaxfs.com)\nSwiss Tax Advisor: Urs Weiss\, WildbachPartner AG (urs.weiss@wildbachpartner.ch)\nSwiss Pension Expert: Robert Boo\, Zurich Insurance Company Ltd\n\nModerated by Jeffrey Haindl\, EC Member of the AICZ. There will be plenty of time for Q&A\, so please send in your questions to events@future.aicz.ch
URL:https://aicz.ch/event/us-tax-and-swiss-pension-issues-update/
ATTACH;FMTTYPE=application/pdf:https://aicz.ch/wp-content/uploads/2021/12/AICZ-Tax-webinar-Feb-2-2022.pdf
END:VEVENT
BEGIN:VEVENT
DTSTART;TZID=Europe/Zurich:20220121T183000
DTEND;TZID=Europe/Zurich:20220121T203000
DTSTAMP:20260423T122405
CREATED:20211203T130637Z
LAST-MODIFIED:20220121T075524Z
UID:1725-1642789800-1642797000@aicz.ch
SUMMARY:CANCELLED - TGIF - January 21\, 2022
DESCRIPTION:Apologies\, but due to Covid\, we must cancel tonight’s event – hope to see you at our February TGIF! \n 
URL:https://aicz.ch/event/tgif-january-21-2022/
CATEGORIES:TGIF
ATTACH;FMTTYPE=image/png:https://aicz.ch/wp-content/uploads/2021/10/Screen-Shot-2021-10-21-at-8.20.49-AM-2-e1640185353567.png
END:VEVENT
BEGIN:VEVENT
DTSTART;VALUE=DATE:20220115
DTEND;VALUE=DATE:20220116
DTSTAMP:20260423T122405
CREATED:20211126T143426Z
LAST-MODIFIED:20220110T200023Z
UID:1711-1642204800-1642291199@aicz.ch
SUMMARY:Winter Sport in Braunwald – January 15\, 2022
DESCRIPTION:Join us for a day in the winter wonderland Braunwald for skiing\, snowboarding\, snowshoeing or hiking. \nGetting there \nGet there by public transport and get a discounted Snow’n’Rail Braunwald ticket directly on SBB’s website or drive there by car. Please drop us a line if you would like to share a ride and we will be happy to put you in touch with other participants of the event. \nEnjoy a lunch break with your family\, friends and colleagues \nWe organized a few tables for our club at the Skibeiz Seblengrat\, where Maya Rhyner\, and Hans Rauner\, who used the run the Ortstockhaus\, took over the Skibeiz Seblengrat this season and are now offering local and fresh specialties from the region. In case of great weather\, get there early to grab a seat outside in the sunshine. \nAbout the resort \nFor more Information on Braunwald please visit: https://braunwald.ch/de/winter/winterhighlights.html
URL:https://aicz.ch/event/winter-sport-in-braunwald-january-15-2022/
LOCATION:Braunwald\, Braunwald\, Switzerland
ATTACH;FMTTYPE=image/jpeg:https://aicz.ch/wp-content/uploads/2021/11/Braunwald_Ski_Early_Bird_Gumen-0796eb79.jpg
ORGANIZER;CN="AICZ Info.":MAILTO:info@future.aicz.ch
END:VEVENT
END:VCALENDAR