BEGIN:VCALENDAR
VERSION:2.0
PRODID:-//American International Club of Zurich - ECPv6.15.20//NONSGML v1.0//EN
CALSCALE:GREGORIAN
METHOD:PUBLISH
X-ORIGINAL-URL:https://aicz.ch
X-WR-CALDESC:Events for American International Club of Zurich
REFRESH-INTERVAL;VALUE=DURATION:PT1H
X-Robots-Tag:noindex
X-PUBLISHED-TTL:PT1H
BEGIN:VTIMEZONE
TZID:Europe/Zurich
BEGIN:DAYLIGHT
TZOFFSETFROM:+0100
TZOFFSETTO:+0200
TZNAME:CEST
DTSTART:20250330T010000
END:DAYLIGHT
BEGIN:STANDARD
TZOFFSETFROM:+0200
TZOFFSETTO:+0100
TZNAME:CET
DTSTART:20251026T010000
END:STANDARD
BEGIN:DAYLIGHT
TZOFFSETFROM:+0100
TZOFFSETTO:+0200
TZNAME:CEST
DTSTART:20260329T010000
END:DAYLIGHT
BEGIN:STANDARD
TZOFFSETFROM:+0200
TZOFFSETTO:+0100
TZNAME:CET
DTSTART:20261025T010000
END:STANDARD
BEGIN:DAYLIGHT
TZOFFSETFROM:+0100
TZOFFSETTO:+0200
TZNAME:CEST
DTSTART:20270328T010000
END:DAYLIGHT
BEGIN:STANDARD
TZOFFSETFROM:+0200
TZOFFSETTO:+0100
TZNAME:CET
DTSTART:20271031T010000
END:STANDARD
END:VTIMEZONE
BEGIN:VEVENT
DTSTART;TZID=Europe/Zurich:20260510T103000
DTEND;TZID=Europe/Zurich:20260510T123000
DTSTAMP:20260422T165925
CREATED:20260420T133919Z
LAST-MODIFIED:20260420T133920Z
UID:5326-1778409000-1778416200@aicz.ch
SUMMARY:Mother's Day Brunch\, May 10\, 2026
DESCRIPTION:Join us for a Mother’s Day Brunch at 10:30 am. CHF 40 per person. Interested? Contact Yvonne at yvonne.nagel@smartpasupport.com
URL:https://aicz.ch/event/mothers-day-brunch-may-10-2026/
LOCATION:Felicita\, Bahnhofstrasse 29\, Erlenbach\, 8703\, Switzerland
CATEGORIES:Event
ATTACH;FMTTYPE=image/jpeg:https://aicz.ch/wp-content/uploads/2026/04/copy-space-tulips-bouquet-table-1.jpg
ORGANIZER;CN="AICZ Events":MAILTO:events@future.aicz.ch
END:VEVENT
BEGIN:VEVENT
DTSTART;TZID=Europe/Zurich:20260522T183000
DTEND;TZID=Europe/Zurich:20260522T210000
DTSTAMP:20260422T165925
CREATED:20251019T063335Z
LAST-MODIFIED:20251019T063335Z
UID:5021-1779474600-1779483600@aicz.ch
SUMMARY:TGIF\, May 22\, 2026 at the Terrasse/Limmatblick ***4th Friday***
DESCRIPTION:More details to follow.
URL:https://aicz.ch/event/tgif-may-22-2026-at-the-terrasse-limmatblick-4th-friday/
LOCATION:Terrasse\, Limmatquai 3\, Zurich\, 8001\, Switzerland
CATEGORIES:TGIF
ATTACH;FMTTYPE=image/jpeg:https://aicz.ch/wp-content/uploads/2025/03/PHOTO-2024-04-20-10-43-27.jpg
ORGANIZER;CN="AICZ Events":MAILTO:events@future.aicz.ch
END:VEVENT
BEGIN:VEVENT
DTSTART;TZID=Europe/Zurich:20260619T183000
DTEND;TZID=Europe/Zurich:20260619T210000
DTSTAMP:20260422T165926
CREATED:20260305T120114Z
LAST-MODIFIED:20260305T120114Z
UID:5253-1781893800-1781902800@aicz.ch
SUMMARY:TGIF\, June 19\, 2026 at the Rathaus Café
DESCRIPTION:More details to follow.
URL:https://aicz.ch/event/tgif-june-19-2026-at-the-rathaus-cafe/
LOCATION:Rathaus Café\, Limmatquai 61\, Zurich\, 8001\, Switzerland
CATEGORIES:TGIF
ATTACH;FMTTYPE=image/jpeg:https://aicz.ch/wp-content/uploads/2026/03/6A4A83982.jpg
ORGANIZER;CN="AICZ Events":MAILTO:events@future.aicz.ch
END:VEVENT
BEGIN:VEVENT
DTSTART;TZID=Europe/Zurich:20260704T173000
DTEND;TZID=Europe/Zurich:20260704T220000
DTSTAMP:20260422T165926
CREATED:20260220T045519Z
LAST-MODIFIED:20260220T045519Z
UID:5233-1783186200-1783202400@aicz.ch
SUMMARY:Independence Day Celebration\, July 4\, 2026
DESCRIPTION:More details to follow.
URL:https://aicz.ch/event/independence-day-celebration-july-4-2026/
LOCATION:Lakeside\, Bellerivestrasse 170\, Zurich\, 8008
CATEGORIES:Event
ATTACH;FMTTYPE=image/jpeg:https://aicz.ch/wp-content/uploads/2021/03/ACZ-4th-July-030-scaled.jpg
ORGANIZER;CN="AICZ Events":MAILTO:events@future.aicz.ch
END:VEVENT
BEGIN:VEVENT
DTSTART;TZID=Europe/Zurich:20260717T183000
DTEND;TZID=Europe/Zurich:20260717T210000
DTSTAMP:20260422T165926
CREATED:20260305T115646Z
LAST-MODIFIED:20260305T115646Z
UID:5248-1784313000-1784322000@aicz.ch
SUMMARY:TGIF\, July 17\, 2026 at the Rathaus Café
DESCRIPTION:More details to follow.
URL:https://aicz.ch/event/tgif-july-17-2026-at-the-rathaus-cafe/
LOCATION:Rathaus Café\, Limmatquai 61\, Zurich\, 8001\, Switzerland
CATEGORIES:TGIF
ATTACH;FMTTYPE=image/jpeg:https://aicz.ch/wp-content/uploads/2022/09/PHOTO-2022-06-17-22-03-42-1-2.jpg
ORGANIZER;CN="AICZ Events":MAILTO:events@future.aicz.ch
END:VEVENT
BEGIN:VEVENT
DTSTART;TZID=Europe/Zurich:20260801T100000
DTEND;TZID=Europe/Zurich:20260801T150000
DTSTAMP:20260422T165926
CREATED:20260220T045659Z
LAST-MODIFIED:20260319T062355Z
UID:5235-1785578400-1785596400@aicz.ch
SUMMARY:Farmer's Brunch\, August 1\, 2026
DESCRIPTION:More details to follow.
URL:https://aicz.ch/event/farmers-brunch-august-1-2026/
ATTACH;FMTTYPE=image/jpeg:https://aicz.ch/wp-content/uploads/2025/07/IMG_0198-rotated.jpg
ORGANIZER;CN="AICZ Events":MAILTO:events@future.aicz.ch
END:VEVENT
BEGIN:VEVENT
DTSTART;TZID=Europe/Zurich:20260821T183000
DTEND;TZID=Europe/Zurich:20260821T210000
DTSTAMP:20260422T165926
CREATED:20260305T115935Z
LAST-MODIFIED:20260305T115935Z
UID:5250-1787337000-1787346000@aicz.ch
SUMMARY:TGIF\, August 21\, 2026 at the Rathaus Café
DESCRIPTION:More details to follow.
URL:https://aicz.ch/event/tgif-august-21-2026-at-the-rathaus-cafe/
LOCATION:Rathaus Café\, Limmatquai 61\, Zurich\, 8001\, Switzerland
CATEGORIES:TGIF
ATTACH;FMTTYPE=image/jpeg:https://aicz.ch/wp-content/uploads/2026/03/6A4A8381.jpg
ORGANIZER;CN="AICZ Events":MAILTO:events@future.aicz.ch
END:VEVENT
BEGIN:VEVENT
DTSTART;TZID=Europe/Zurich:20260903T120000
DTEND;TZID=Europe/Zurich:20260903T220000
DTSTAMP:20260422T165926
CREATED:20260129T134546Z
LAST-MODIFIED:20260319T062448Z
UID:5173-1788436800-1788472800@aicz.ch
SUMMARY:Charity Golf Tournament\, September 3\, 2026
DESCRIPTION:
URL:https://aicz.ch/event/charity-golf-tournament-september-3-2026/
LOCATION:Andermatt Golf Course\, Reussen\, Andermatt\, 6490\, Switzerland
CATEGORIES:Event
ATTACH;FMTTYPE=image/png:https://aicz.ch/wp-content/uploads/2023/06/golf.png
ORGANIZER;CN="golf@aicz.ch":MAILTO:golf@aicz.ch
END:VEVENT
BEGIN:VEVENT
DTSTART;TZID=Europe/Zurich:20260918T183000
DTEND;TZID=Europe/Zurich:20260918T210000
DTSTAMP:20260422T165926
CREATED:20260305T120314Z
LAST-MODIFIED:20260305T120550Z
UID:5257-1789756200-1789765200@aicz.ch
SUMMARY:TGIF\, September 18\, 2026 at the Terrasse/Limmatblick
DESCRIPTION:More details to follow.
URL:https://aicz.ch/event/tgif-september-18-2026-at-the-terrasse-limmatblick/
LOCATION:Terrasse\, Limmatquai 3\, Zurich\, 8001\, Switzerland
CATEGORIES:TGIF
ATTACH;FMTTYPE=image/jpeg:https://aicz.ch/wp-content/uploads/2025/10/PHOTO-2024-04-20-10-43-25-2.jpg
ORGANIZER;CN="AICZ Events":MAILTO:events@future.aicz.ch
END:VEVENT
BEGIN:VEVENT
DTSTART;TZID=Europe/Zurich:20261008T183000
DTEND;TZID=Europe/Zurich:20261008T210000
DTSTAMP:20260422T165926
CREATED:20260220T050138Z
LAST-MODIFIED:20260220T050138Z
UID:5239-1791484200-1791493200@aicz.ch
SUMMARY:Members' Welcome Reception\, October 8\, 2026
DESCRIPTION:More details to follow.
URL:https://aicz.ch/event/members-welcome-reception-october-8-2026/
LOCATION:Zunfthaus zur Zimmerleuten\, Limmatquai 40\, Zurich\, 8001\, Switzerland
CATEGORIES:Event
ATTACH;FMTTYPE=image/jpeg:https://aicz.ch/wp-content/uploads/2026/02/PHOTO-2025-10-10-11-59-48_1.jpg
ORGANIZER;CN="AICZ Events":MAILTO:events@future.aicz.ch
END:VEVENT
BEGIN:VEVENT
DTSTART;TZID=Europe/Zurich:20261023T183000
DTEND;TZID=Europe/Zurich:20261023T210000
DTSTAMP:20260422T165926
CREATED:20260305T120448Z
LAST-MODIFIED:20260305T120448Z
UID:5259-1792780200-1792789200@aicz.ch
SUMMARY:TGIF\, October 23\, 2026 at the Terrasse/Limmatblick *** 4th Friday***
DESCRIPTION:More details to follow.
URL:https://aicz.ch/event/tgif-october-23-2026-at-the-terrasse-limmatblick-4th-friday/
LOCATION:Terrasse\, Limmatquai 3\, Zurich\, 8001\, Switzerland
CATEGORIES:TGIF
ATTACH;FMTTYPE=image/jpeg:https://aicz.ch/wp-content/uploads/2025/10/PHOTO-2024-04-20-10-43-27-2.jpg
ORGANIZER;CN="AICZ Events":MAILTO:events@future.aicz.ch
END:VEVENT
BEGIN:VEVENT
DTSTART;TZID=Europe/Zurich:20261120T183000
DTEND;TZID=Europe/Zurich:20261120T210000
DTSTAMP:20260422T165926
CREATED:20260305T120701Z
LAST-MODIFIED:20260305T120701Z
UID:5261-1795199400-1795208400@aicz.ch
SUMMARY:TGIF\, November 20\, 2026 at the Terrasse/Limmatblick
DESCRIPTION:More details to follow.
URL:https://aicz.ch/event/tgif-november-20-2026-at-the-terrasse-limmatblick/
LOCATION:Terrasse\, Limmatquai 3\, Zurich\, 8001\, Switzerland
ATTACH;FMTTYPE=image/jpeg:https://aicz.ch/wp-content/uploads/2025/03/PHOTO-2024-04-20-10-43-26-6.jpg
ORGANIZER;CN="AICZ Events":MAILTO:events@future.aicz.ch
END:VEVENT
BEGIN:VEVENT
DTSTART;TZID=Europe/Zurich:20261126T180000
DTEND;TZID=Europe/Zurich:20261126T220000
DTSTAMP:20260422T165926
CREATED:20260220T045950Z
LAST-MODIFIED:20260220T045950Z
UID:5237-1795716000-1795730400@aicz.ch
SUMMARY:Thanksgiving Dinner\, November 26\, 2026
DESCRIPTION:More details to follow.
URL:https://aicz.ch/event/thanksgiving-dinner-november-26-2026/
LOCATION:Hotel Bourbon\, Obere Zäune 19\, Zurich\, 8001\, Switzerland
CATEGORIES:Event
ATTACH;FMTTYPE=image/jpeg:https://aicz.ch/wp-content/uploads/2021/09/PHOTO-2018-11-22-22-41-35-e1759385649541.jpg
ORGANIZER;CN="AICZ Events":MAILTO:events@future.aicz.ch
END:VEVENT
BEGIN:VEVENT
DTSTART;TZID=Europe/Zurich:20261215T183000
DTEND;TZID=Europe/Zurich:20261215T210000
DTSTAMP:20260422T165926
CREATED:20260305T121006Z
LAST-MODIFIED:20260305T121006Z
UID:5263-1797359400-1797368400@aicz.ch
SUMMARY:Holiday Celebration – ‘Jingle and Mingle’\, December 15\, 2026 at Terrasse/Limmatblick
DESCRIPTION:More details to follow.
URL:https://aicz.ch/event/holiday-celebration-jingle-and-mingle-december-15-2026-at-terrasse-limmatblick/
LOCATION:Terrasse\, Limmatquai 3\, Zurich\, 8001\, Switzerland
CATEGORIES:Event
ATTACH;FMTTYPE=image/jpeg:https://aicz.ch/wp-content/uploads/2026/03/IMG_5465.jpg
ORGANIZER;CN="AICZ Events":MAILTO:events@future.aicz.ch
END:VEVENT
END:VCALENDAR