BEGIN:VCALENDAR
VERSION:2.0
PRODID:-//American International Club of Zurich - ECPv6.15.20//NONSGML v1.0//EN
CALSCALE:GREGORIAN
METHOD:PUBLISH
X-ORIGINAL-URL:https://aicz.ch
X-WR-CALDESC:Events for American International Club of Zurich
REFRESH-INTERVAL;VALUE=DURATION:PT1H
X-Robots-Tag:noindex
X-PUBLISHED-TTL:PT1H
BEGIN:VTIMEZONE
TZID:Europe/Zurich
BEGIN:DAYLIGHT
TZOFFSETFROM:+0100
TZOFFSETTO:+0200
TZNAME:CEST
DTSTART:20240331T010000
END:DAYLIGHT
BEGIN:STANDARD
TZOFFSETFROM:+0200
TZOFFSETTO:+0100
TZNAME:CET
DTSTART:20241027T010000
END:STANDARD
BEGIN:DAYLIGHT
TZOFFSETFROM:+0100
TZOFFSETTO:+0200
TZNAME:CEST
DTSTART:20250330T010000
END:DAYLIGHT
BEGIN:STANDARD
TZOFFSETFROM:+0200
TZOFFSETTO:+0100
TZNAME:CET
DTSTART:20251026T010000
END:STANDARD
BEGIN:DAYLIGHT
TZOFFSETFROM:+0100
TZOFFSETTO:+0200
TZNAME:CEST
DTSTART:20260329T010000
END:DAYLIGHT
BEGIN:STANDARD
TZOFFSETFROM:+0200
TZOFFSETTO:+0100
TZNAME:CET
DTSTART:20261025T010000
END:STANDARD
BEGIN:DAYLIGHT
TZOFFSETFROM:+0100
TZOFFSETTO:+0200
TZNAME:CEST
DTSTART:20270328T010000
END:DAYLIGHT
BEGIN:STANDARD
TZOFFSETFROM:+0200
TZOFFSETTO:+0100
TZNAME:CET
DTSTART:20271031T010000
END:STANDARD
END:VTIMEZONE
BEGIN:VEVENT
DTSTART;TZID=Europe/Zurich:20260417T183000
DTEND;TZID=Europe/Zurich:20260417T210000
DTSTAMP:20260422T122702
CREATED:20251019T063138Z
LAST-MODIFIED:20251019T063138Z
UID:5019-1776450600-1776459600@aicz.ch
SUMMARY:TGIF\, April 17\, 2026 at the Terrasse/Limmatblick
DESCRIPTION:More details to follow.
URL:https://aicz.ch/event/tgif-april-17-2026-at-the-terrasse-limmatblick/
LOCATION:Terrasse\, Limmatquai 3\, Zurich\, 8001\, Switzerland
CATEGORIES:TGIF
ATTACH;FMTTYPE=image/jpeg:https://aicz.ch/wp-content/uploads/2025/03/PHOTO-2024-04-20-10-43-26-6.jpg
ORGANIZER;CN="AICZ Events":MAILTO:events@future.aicz.ch
END:VEVENT
BEGIN:VEVENT
DTSTART;TZID=Europe/Zurich:20260415T183000
DTEND;TZID=Europe/Zurich:20260415T210000
DTSTAMP:20260422T122702
CREATED:20260317T192001Z
LAST-MODIFIED:20260317T192002Z
UID:5276-1776277800-1776286800@aicz.ch
SUMMARY:Your Career in the Age of AI\, Wednesday\, April 15\, 2026
DESCRIPTION:Eventfrog Link here.
URL:https://aicz.ch/event/your-career-in-the-age-of-ai-wednesday-april-15-2026/
LOCATION:Right Management Switzerland\, Elias-Canetti-Strasse 2\, Zürich\, 8050\, Switzerland
CATEGORIES:Event
ATTACH;FMTTYPE=image/png:https://aicz.ch/wp-content/uploads/2026/03/BizLounge.png
ORGANIZER;CN="AICZ Events":MAILTO:events@future.aicz.ch
END:VEVENT
BEGIN:VEVENT
DTSTART;TZID=Europe/Zurich:20260320T183000
DTEND;TZID=Europe/Zurich:20260320T210000
DTSTAMP:20260422T122702
CREATED:20251019T062920Z
LAST-MODIFIED:20251019T062920Z
UID:5016-1774031400-1774040400@aicz.ch
SUMMARY:TGIF\, March 20\, 2026 at the Terrasse/Limmatblick
DESCRIPTION:More details to follow.
URL:https://aicz.ch/event/tgif-march-20-2026-at-the-terrasse-limmatblick/
LOCATION:Terrasse\, Limmatquai 3\, Zurich\, 8001\, Switzerland
CATEGORIES:TGIF
ATTACH;FMTTYPE=image/jpeg:https://aicz.ch/wp-content/uploads/2025/10/PHOTO-2024-04-20-10-43-27-2.jpg
ORGANIZER;CN="AICZ Events":MAILTO:events@future.aicz.ch
END:VEVENT
BEGIN:VEVENT
DTSTART;TZID=Europe/Zurich:20260319T180000
DTEND;TZID=Europe/Zurich:20260319T220000
DTSTAMP:20260422T122702
CREATED:20251024T062911Z
LAST-MODIFIED:20260205T202602Z
UID:5024-1773943200-1773957600@aicz.ch
SUMMARY:Annual General Meeting\, March 19\, 2026
DESCRIPTION:Eventfrog sign-up link here. Event .pdf to download here.
URL:https://aicz.ch/event/annual-general-meeting-march-19-2026/
LOCATION:Restaurant zum Grünen Glas\, Entrance: Obere Zäune 16\, Zurich\, ZH\, 8001\, Switzerland
CATEGORIES:Event
ATTACH;FMTTYPE=image/jpeg:https://aicz.ch/wp-content/uploads/2025/10/PHOTO-2025-03-21-10-40-12_2.jpg
ORGANIZER;CN="AICZ Events":MAILTO:events@future.aicz.ch
END:VEVENT
BEGIN:VEVENT
DTSTART;TZID=Europe/Zurich:20260220T183000
DTEND;TZID=Europe/Zurich:20260220T210000
DTSTAMP:20260422T122702
CREATED:20251019T062712Z
LAST-MODIFIED:20251019T062712Z
UID:5010-1771612200-1771621200@aicz.ch
SUMMARY:TGIF\, February 20\, 2026 at the Terrasse/Limmatblick
DESCRIPTION:More details to follow.
URL:https://aicz.ch/event/tgif-february-20-2026-at-the-terrasse-limmatblick/
LOCATION:Terrasse\, Limmatquai 3\, Zurich\, 8001\, Switzerland
CATEGORIES:TGIF
ATTACH;FMTTYPE=image/jpeg:https://aicz.ch/wp-content/uploads/2025/10/PHOTO-2024-04-20-10-43-26-5.jpg
ORGANIZER;CN="AICZ Events":MAILTO:events@future.aicz.ch
END:VEVENT
BEGIN:VEVENT
DTSTART;TZID=Europe/Zurich:20260215T184500
DTEND;TZID=Europe/Zurich:20260215T210000
DTSTAMP:20260422T122702
CREATED:20260117T071327Z
LAST-MODIFIED:20260117T071328Z
UID:5151-1771181100-1771189200@aicz.ch
SUMMARY:Sunday\, February 15\, Quiz Evening
DESCRIPTION:Sign-up link here. \n 
URL:https://aicz.ch/event/sunday-february-15-quiz-evening/
LOCATION:‘Callaghan’s Shamrock Irish Pub\, Wollishoferplatz\, Studackerstr. 1\, Zürich\, 8038\, Switzerland
ATTACH;FMTTYPE=image/png:https://aicz.ch/wp-content/uploads/2026/01/Screenshot-2026-01-17-at-08.12.42.png
ORGANIZER;CN="AICZ Events":MAILTO:events@future.aicz.ch
END:VEVENT
BEGIN:VEVENT
DTSTART;TZID=Europe/Zurich:20260205T183000
DTEND;TZID=Europe/Zurich:20260205T210000
DTSTAMP:20260422T122702
CREATED:20251108T072527Z
LAST-MODIFIED:20251209T084727Z
UID:5038-1770316200-1770325200@aicz.ch
SUMMARY:Fondue Evening\, February 5\, 2026
DESCRIPTION:Eventfrog link here
URL:https://aicz.ch/event/fondue-evening-february-5-2026/
LOCATION:Frau Gerolds Garden\, Geroldstrasse 23\, Zürich\, 8005\, Switzerland
ATTACH;FMTTYPE=image/png:https://aicz.ch/wp-content/uploads/2023/11/Fonduepix.png
ORGANIZER;CN="AICZ Events":MAILTO:events@future.aicz.ch
END:VEVENT
BEGIN:VEVENT
DTSTART;TZID=Europe/Zurich:20260116T183000
DTEND;TZID=Europe/Zurich:20260116T210000
DTSTAMP:20260422T122702
CREATED:20251019T062546Z
LAST-MODIFIED:20251019T062727Z
UID:5007-1768588200-1768597200@aicz.ch
SUMMARY:TGIF\, January 16\, 2026 at the Terrasse/Limmatblick
DESCRIPTION:More details to follow.
URL:https://aicz.ch/event/tgif-january-16-2026-at-the-terrasse-limmatblick/
LOCATION:Terrasse\, Limmatquai 3\, Zurich\, 8001\, Switzerland
CATEGORIES:TGIF
ATTACH;FMTTYPE=image/jpeg:https://aicz.ch/wp-content/uploads/2025/10/PHOTO-2024-04-20-10-43-25-2.jpg
ORGANIZER;CN="AICZ Events":MAILTO:events@future.aicz.ch
END:VEVENT
BEGIN:VEVENT
DTSTART;TZID=Europe/Zurich:20251216T183000
DTEND;TZID=Europe/Zurich:20251216T203000
DTSTAMP:20260422T122702
CREATED:20250326T091100Z
LAST-MODIFIED:20251128T041727Z
UID:4428-1765909800-1765917000@aicz.ch
SUMMARY:Holiday Celebration - 'Jingle and Mingle'\, December 16\, 2025 at Terrasse/Limmatblick
DESCRIPTION:
URL:https://aicz.ch/event/tgif-december-16-2025/
LOCATION:Terrasse\, Limmatquai 3\, Zurich\, 8001\, Switzerland
CATEGORIES:Event
ATTACH;FMTTYPE=image/jpeg:https://aicz.ch/wp-content/uploads/2025/03/IMG_5465.jpg
ORGANIZER;CN="AICZ Events":MAILTO:events@future.aicz.ch
END:VEVENT
BEGIN:VEVENT
DTSTART;TZID=Europe/Zurich:20251127T183000
DTEND;TZID=Europe/Zurich:20251127T220000
DTSTAMP:20260422T122702
CREATED:20250326T093105Z
LAST-MODIFIED:20250917T075723Z
UID:4440-1764268200-1764280800@aicz.ch
SUMMARY:Thanksgiving Dinner\, November 27\, 2025 at the Restaurant Bourbon
DESCRIPTION:Eventfrog link here.
URL:https://aicz.ch/event/thanksgiving-dinner-november-27-2025/
LOCATION:Hotel Bourbon\, Obere Zäune 19\, Zurich\, 8001\, Switzerland
CATEGORIES:Event
ATTACH;FMTTYPE=image/jpeg:https://aicz.ch/wp-content/uploads/2021/09/Thanksgiving-image.jpg
ORGANIZER;CN="AICZ Events":MAILTO:events@future.aicz.ch
END:VEVENT
BEGIN:VEVENT
DTSTART;TZID=Europe/Zurich:20251114T183000
DTEND;TZID=Europe/Zurich:20251114T203000
DTSTAMP:20260422T122702
CREATED:20250326T090954Z
LAST-MODIFIED:20250917T075445Z
UID:4426-1763145000-1763152200@aicz.ch
SUMMARY:TGIF\, November 14\, 2025 at the Terrasse/Limmatblick ***2nd Friday of the month***
DESCRIPTION:
URL:https://aicz.ch/event/tgif-november-21-2025-at-the-terrasse-limmatblick/
LOCATION:Terrasse\, Limmatquai 3\, Zurich\, 8001\, Switzerland
CATEGORIES:TGIF
ATTACH;FMTTYPE=image/jpeg:https://aicz.ch/wp-content/uploads/2025/03/PHOTO-2024-04-20-10-43-27.jpg
ORGANIZER;CN="AICZ Events":MAILTO:events@future.aicz.ch
END:VEVENT
BEGIN:VEVENT
DTSTART;TZID=Europe/Zurich:20251017T183000
DTEND;TZID=Europe/Zurich:20251017T203000
DTSTAMP:20260422T122702
CREATED:20250326T090805Z
LAST-MODIFIED:20250917T075425Z
UID:4424-1760725800-1760733000@aicz.ch
SUMMARY:TGIF\, October 17\, 2025 at the Terrasse/Limmatblick
DESCRIPTION:
URL:https://aicz.ch/event/tgif-october-17-2025-at-the-terrasse-limmatblick/
LOCATION:Terrasse\, Limmatquai 3\, Zurich\, 8001\, Switzerland
CATEGORIES:TGIF
ATTACH;FMTTYPE=image/jpeg:https://aicz.ch/wp-content/uploads/2025/03/PHOTO-2024-04-20-10-43-26-6.jpg
ORGANIZER;CN="AICZ Events":MAILTO:events@future.aicz.ch
END:VEVENT
BEGIN:VEVENT
DTSTART;TZID=Europe/Zurich:20251016T080000
DTEND;TZID=Europe/Zurich:20251016T170000
DTSTAMP:20260422T122702
CREATED:20251016T123952Z
LAST-MODIFIED:20251016T123952Z
UID:5005-1760601600-1760634000@aicz.ch
SUMMARY:Fondue Evening\, January 29\, 2025
DESCRIPTION:More details to follow.
URL:https://aicz.ch/event/fondue-evening-january-29-2025/
CATEGORIES:Event
ATTACH;FMTTYPE=image/png:https://aicz.ch/wp-content/uploads/2023/11/Fonduepix.png
END:VEVENT
BEGIN:VEVENT
DTSTART;VALUE=DATE:20251010
DTEND;VALUE=DATE:20251013
DTSTAMP:20260422T122702
CREATED:20250716T122522Z
LAST-MODIFIED:20250716T122522Z
UID:4759-1760054400-1760313599@aicz.ch
SUMMARY:AAC Worldwide Face to Face Conference 2025 Golf Barbaroux/Hotel Mercure - October 10 - 12\, 2025
DESCRIPTION:AAC Worldwide Face to Face Conference 2025 \nGolf Barbaroux/ Hotel Mercure 10th – 12th October \nDear Club Members\, \nWe need your help to ensure the success of our second AAC Worldwide Face-to-Face Conference\, taking place 10th–12th October 2025 at the beautiful Golf de Barbaroux / Hotel Mercure.  Hotel Details: https://all.accor.com/hotel/8770/index.en.shtml \nHere’s what you need to do: \n1. Confirm Club Participation – ASAP\nPlease email Tim at teldata.consulting@gmail.com to confirm who from your club will attend.\nWe’re already past the hotel’s preferred deadline (end of May)\, so the sooner we respond\, the better pricing we can secure. \n\nYes\, your club members are invited!  Please share with your club members.\nOnce we have your numbers\, you will be able to register individually at the special conference rate.\nKnowing the Club attendee count is essential for agenda planning.\n\n2. Additional Ways to Contribute:\nPlease let Tim or me know if you: \n\nWould like to volunteer\nHave speaker recommendations\nWant to propose agenda items\n\nWe are excited to build on the success of our first conference and make this one even better. \nBest regards\, \nRon Banks \nrbanks_bst@yahoo.com
URL:https://aicz.ch/event/aac-worldwide-face-to-face-conference-2025-golf-barbaroux-hotel-mercure-october-10-12-2025/
LOCATION:Mercure Brignoles Golf de Barbaroux & Spa\, route de cabasse\, Brignoles\, 83170\, France
CATEGORIES:Event
ATTACH;FMTTYPE=image/png:https://aicz.ch/wp-content/uploads/2025/07/Screenshot-2025-07-16-at-14.24.55.png
END:VEVENT
BEGIN:VEVENT
DTSTART;TZID=Europe/Zurich:20251009T060000
DTEND;TZID=Europe/Zurich:20251009T210000
DTSTAMP:20260422T122702
CREATED:20250326T092814Z
LAST-MODIFIED:20250813T092814Z
UID:4437-1759989600-1760043600@aicz.ch
SUMMARY:Members' Welcome Reception\, October 9\, 2025
DESCRIPTION:Eventfrog link here
URL:https://aicz.ch/event/members-welcome-reception-october-9-2025/
LOCATION:Zunfthaus zur Zimmerleuten\, Limmatquai 40\, Zurich\, 8001\, Switzerland
CATEGORIES:Event
ATTACH;FMTTYPE=image/jpeg:https://aicz.ch/wp-content/uploads/2025/03/1000033732-scaled.jpg
ORGANIZER;CN="AICZ Events":MAILTO:events@future.aicz.ch
END:VEVENT
BEGIN:VEVENT
DTSTART;TZID=Europe/Zurich:20251002T180000
DTEND;TZID=Europe/Zurich:20251002T213000
DTSTAMP:20260422T122702
CREATED:20250716T123920Z
LAST-MODIFIED:20250716T123920Z
UID:4770-1759428000-1759440600@aicz.ch
SUMMARY:Wine & Culture\, October 2\, 2025
DESCRIPTION:Eventfrog link here
URL:https://aicz.ch/event/wine-culture-october-2-2025/
LOCATION:Weinbaumuseum\, Austrasse 41\, Au\, 8804\, Switzerland
ATTACH;FMTTYPE=image/png:https://aicz.ch/wp-content/uploads/2025/07/Screenshot-2025-07-16-at-14.35.31.png
ORGANIZER;CN="AICZ Events":MAILTO:events@future.aicz.ch
END:VEVENT
BEGIN:VEVENT
DTSTART;VALUE=DATE:20251001
DTEND;VALUE=DATE:20251002
DTSTAMP:20260422T122702
CREATED:20250115T073008Z
LAST-MODIFIED:20250925T055443Z
UID:4208-1759276800-1759363199@aicz.ch
SUMMARY:American International Golf Championship\, October 1\, 2025
DESCRIPTION:
URL:https://aicz.ch/event/golf-championship-october-1-2025/
LOCATION:Golfpark Holzhäusern\, Katharinenhof 3\, Risch-Rotkreuz\, 6343\, Switzerland
CATEGORIES:Event
ATTACH;FMTTYPE=image/jpeg:https://aicz.ch/wp-content/uploads/2025/01/A3-Placard-AICZ-2025-Golf-Tournament-designed-with-Ellen-5.jpg
END:VEVENT
BEGIN:VEVENT
DTSTART;TZID=Europe/Zurich:20250919T183000
DTEND;TZID=Europe/Zurich:20250919T203000
DTSTAMP:20260422T122702
CREATED:20250326T090202Z
LAST-MODIFIED:20250913T095721Z
UID:4422-1758306600-1758313800@aicz.ch
SUMMARY:TGIF\, September 19\, 2025 at the Terrasse/Limmatblick
DESCRIPTION:
URL:https://aicz.ch/event/tgif-september-19-2025-at-the-terrasse-limmatblick/
LOCATION:Terrasse\, Limmatquai 3\, Zurich\, 8001\, Switzerland
CATEGORIES:TGIF
ATTACH;FMTTYPE=image/jpeg:https://aicz.ch/wp-content/uploads/2025/03/PHOTO-2024-04-20-10-43-27-2.jpg
ORGANIZER;CN="AICZ Events":MAILTO:events@future.aicz.ch
END:VEVENT
BEGIN:VEVENT
DTSTART;TZID=Europe/Zurich:20250815T183000
DTEND;TZID=Europe/Zurich:20250815T203000
DTSTAMP:20260422T122702
CREATED:20250326T090018Z
LAST-MODIFIED:20250716T123341Z
UID:4420-1755282600-1755289800@aicz.ch
SUMMARY:TGIF\, August 15\, 2025 at the Rathaus Café
DESCRIPTION:
URL:https://aicz.ch/event/tgif-august-15-2025-at-the-rathaus-cafe/
LOCATION:Rathaus Café\, Limmatquai 61\, Zurich\, 8001\, Switzerland
CATEGORIES:TGIF
ATTACH;FMTTYPE=image/jpeg:https://aicz.ch/wp-content/uploads/2025/03/PHOTO-2024-07-19-21-15-12.jpg
ORGANIZER;CN="AICZ Events":MAILTO:events@future.aicz.ch
END:VEVENT
BEGIN:VEVENT
DTSTART;TZID=Europe/Zurich:20250801T100000
DTEND;TZID=Europe/Zurich:20250801T140000
DTSTAMP:20260422T122702
CREATED:20250326T092323Z
LAST-MODIFIED:20250716T120841Z
UID:4434-1754042400-1754056800@aicz.ch
SUMMARY:Farmer's Brunch\, August 1\, 2025
DESCRIPTION:
URL:https://aicz.ch/event/farmers-brunch-august-1-2025/
CATEGORIES:Event
ATTACH;FMTTYPE=image/jpeg:https://aicz.ch/wp-content/uploads/2025/03/20240801_110430-scaled.jpg
ORGANIZER;CN="AICZ Events":MAILTO:events@future.aicz.ch
END:VEVENT
BEGIN:VEVENT
DTSTART;TZID=Europe/Zurich:20250718T183000
DTEND;TZID=Europe/Zurich:20250718T203000
DTSTAMP:20260422T122702
CREATED:20250326T085839Z
LAST-MODIFIED:20250326T085839Z
UID:4418-1752863400-1752870600@aicz.ch
SUMMARY:TGIF\, July 18\, 2025 at the Rathaus Café
DESCRIPTION:Details to follow
URL:https://aicz.ch/event/tgif-july-18-2025-at-the-rathaus-cafe/
LOCATION:Rathaus Café\, Limmatquai 61\, Zurich\, 8001\, Switzerland
CATEGORIES:TGIF
ATTACH;FMTTYPE=image/png:https://aicz.ch/wp-content/uploads/2022/03/Rathaus.png
ORGANIZER;CN="AICZ Events":MAILTO:events@future.aicz.ch
END:VEVENT
BEGIN:VEVENT
DTSTART;TZID=Europe/Zurich:20250704T173000
DTEND;TZID=Europe/Zurich:20250704T223000
DTSTAMP:20260422T122702
CREATED:20250326T092006Z
LAST-MODIFIED:20250326T092006Z
UID:4432-1751650200-1751668200@aicz.ch
SUMMARY:Independence Day Celebration\, July 4\, 2025 - rain or shine!
DESCRIPTION:Details to follow
URL:https://aicz.ch/event/independence-day-celebration-july-4-2025-rain-or-shine/
LOCATION:Lakeside\, Bellerivestrasse 170\, Zurich\, 8008
CATEGORIES:Event
ATTACH;FMTTYPE=image/jpeg:https://aicz.ch/wp-content/uploads/2021/03/ACZ-4th-July-030-scaled.jpg
END:VEVENT
BEGIN:VEVENT
DTSTART;TZID=Europe/Zurich:20250620T183000
DTEND;TZID=Europe/Zurich:20250620T203000
DTSTAMP:20260422T122702
CREATED:20250326T085618Z
LAST-MODIFIED:20250330T124423Z
UID:4415-1750444200-1750451400@aicz.ch
SUMMARY:TGIF\, June 20\, 2025 at the Rathaus Café
DESCRIPTION:Details to follow.
URL:https://aicz.ch/event/tgif-june-20-2025-at-the-rathaus-cafe/
LOCATION:Rathaus Café\, Limmatquai 61\, Zurich\, 8001\, Switzerland
CATEGORIES:TGIF
ATTACH;FMTTYPE=image/jpeg:https://aicz.ch/wp-content/uploads/2025/03/AICZ-TGIF-Wide.jpg
ORGANIZER;CN="AICZ Events":MAILTO:events@future.aicz.ch
END:VEVENT
BEGIN:VEVENT
DTSTART;VALUE=DATE:20250529
DTEND;VALUE=DATE:20250530
DTSTAMP:20260422T122702
CREATED:20250326T091715Z
LAST-MODIFIED:20250330T185944Z
UID:4430-1748476800-1748563199@aicz.ch
SUMMARY:Ascension Day Hike\, May 29\, 2025 - Uetliberg
DESCRIPTION:Details to follow.
URL:https://aicz.ch/event/ascension-day-hike-may-29-2025-uetliberg/
CATEGORIES:Event
ATTACH;FMTTYPE=image/jpeg:https://aicz.ch/wp-content/uploads/2021/04/Hike1.jpg
ORGANIZER;CN="AICZ Events":MAILTO:events@future.aicz.ch
END:VEVENT
BEGIN:VEVENT
DTSTART;TZID=Europe/Zurich:20250516T183000
DTEND;TZID=Europe/Zurich:20250516T203000
DTSTAMP:20260422T122702
CREATED:20250326T085403Z
LAST-MODIFIED:20250330T190016Z
UID:4413-1747420200-1747427400@aicz.ch
SUMMARY:TGIF\, May 16\, 2025 at the Terrasse/Limmatblick
DESCRIPTION:
URL:https://aicz.ch/event/tgif-may-16-2025-at-the-terrasse-limmatblick/
LOCATION:Terrasse\, Limmatquai 3\, Zurich\, 8001\, Switzerland
CATEGORIES:TGIF
ATTACH;FMTTYPE=image/jpeg:https://aicz.ch/wp-content/uploads/2025/03/cropped-AICZ-TGIF-Sunny.jpg
ORGANIZER;CN="AICZ Events":MAILTO:events@future.aicz.ch
END:VEVENT
BEGIN:VEVENT
DTSTART;TZID=Europe/Zurich:20250425T183000
DTEND;TZID=Europe/Zurich:20250425T210000
DTSTAMP:20260422T122702
CREATED:20241018T084618Z
LAST-MODIFIED:20250330T124148Z
UID:4028-1745605800-1745614800@aicz.ch
SUMMARY:TGIF\, April 25\, 2025 at the Terrasse/Limmatblick *** 4th Friday***
DESCRIPTION:
URL:https://aicz.ch/event/tgif-april-25-2025-at-the-terrasse-river-bar-4th-friday/
LOCATION:Terrasse\, Limmatquai 3\, Zurich\, 8001\, Switzerland
ATTACH;FMTTYPE=image/jpeg:https://aicz.ch/wp-content/uploads/2025/03/AICZ-TGIF-Wide.jpg
ORGANIZER;CN="AICZ Events":MAILTO:events@future.aicz.ch
END:VEVENT
BEGIN:VEVENT
DTSTART;TZID=Europe/Zurich:20250321T183000
DTEND;TZID=Europe/Zurich:20250321T210000
DTSTAMP:20260422T122702
CREATED:20241018T084452Z
LAST-MODIFIED:20250115T070946Z
UID:4026-1742581800-1742590800@aicz.ch
SUMMARY:TGIF\, March 21\, 2025 at the Terrasse/Limmatblick
DESCRIPTION:
URL:https://aicz.ch/event/tgif-march-21-2025-at-the-terrasse-river-bar/
LOCATION:Terrasse\, Limmatquai 3\, Zurich\, 8001\, Switzerland
CATEGORIES:TGIF
ATTACH;FMTTYPE=image/png:https://aicz.ch/wp-content/uploads/2023/08/TerrasseDrink-e1715757141751.png
ORGANIZER;CN="AICZ Events":MAILTO:events@future.aicz.ch
END:VEVENT
BEGIN:VEVENT
DTSTART;TZID=Europe/Zurich:20250320T180000
DTEND;TZID=Europe/Zurich:20250320T220000
DTSTAMP:20260422T122702
CREATED:20250115T073432Z
LAST-MODIFIED:20250119T080416Z
UID:4213-1742493600-1742508000@aicz.ch
SUMMARY:Annual General Meeting\, March 20\, 2025
DESCRIPTION:Sign up here
URL:https://aicz.ch/event/annual-general-meeting-march-20-2025/
LOCATION:Restaurant zum Grünen Glas\, Entrance: Obere Zäune 16\, Zurich\, ZH\, 8001\, Switzerland
CATEGORIES:Event
ATTACH;FMTTYPE=image/jpeg:https://aicz.ch/wp-content/uploads/2025/01/1000087077-scaled-e1771262664953.jpg
ORGANIZER;CN="AICZ Events":MAILTO:events@future.aicz.ch
END:VEVENT
BEGIN:VEVENT
DTSTART;TZID=Europe/Zurich:20250221T183000
DTEND;TZID=Europe/Zurich:20250221T210000
DTSTAMP:20260422T122702
CREATED:20241018T084339Z
LAST-MODIFIED:20250115T071045Z
UID:4024-1740162600-1740171600@aicz.ch
SUMMARY:TGIF\, February 21\, 2025 at the Terrasse/Limmatblick
DESCRIPTION:
URL:https://aicz.ch/event/tgif-february-21-2025-at-the-terrasse-river-bar/
LOCATION:Terrasse\, Limmatquai 3\, Zurich\, 8001\, Switzerland
CATEGORIES:TGIF
ATTACH;FMTTYPE=image/png:https://aicz.ch/wp-content/uploads/2023/08/TerrasseDrink-e1715757141751.png
ORGANIZER;CN="AICZ Events":MAILTO:events@future.aicz.ch
END:VEVENT
BEGIN:VEVENT
DTSTART;TZID=Europe/Zurich:20250213T191500
DTEND;TZID=Europe/Zurich:20250213T210000
DTSTAMP:20260422T122702
CREATED:20250119T174827Z
LAST-MODIFIED:20250120T050852Z
UID:4234-1739474100-1739480400@aicz.ch
SUMMARY:CARAVAGGIO a multi-media art lecture\, February 13\, 2025
DESCRIPTION:Register here. \n \n \nCaravaggio\nOur next art lecture in our series is on Caravaggio\, the fascinating Italian painter who broke out of the mold in the late 16th century\, to be held on Thursday\, February 13 at 19:15. Once again the American Women’s Club of Zurich will participate. It will be held at YVY\, the shop and studio of the world renowned leather designer Yvonne Reichmuth\, at Dufourstrasse 31\, 8008 Zurich …an 8 minute walk from Bellevue. \n \nOnce again\, the lecturer will be Leila Mebert. Leila has a degree in classical literature and archaeology\,  which she uses to provide a unique and unexpected insight into her subject. She will take us on a journey through time\, incorporating history\, philosophy\, religion\, drama\, photography and cinematography. Leila uses Art to weave a story of human history\,  which gives us a key to understand our own stories and those of the world we live in today.\n \nWe have the further luxury of being at the studio of Yvonne Reichmuth. Yvonne and her team create unique leather accessories for Hollywood. Their clients include Madonna\, Taylor Swift\, and and and… She will share her story with us. Visit their website at YVY.ch for further info on YVY.\n \nAdvanced tickets are required. Members of both the American International and the American Women’s Clubs have an entrance fee of 50CHF. Spouses and non-members are most welcome at a fee of 60CHF. The price includes wine and cheese. Sign up at the EventFrog\, a separate website we use for on line registration and payment for events. Please follow https://eventfrog.ch/art-lecture-aicz or the QR code above. The deadline for registration/cancellation is February 11. Please note that past lectures were sold out several days in advance of the deadline and seating is limited to 30 this time. \n \nFor further information\, please do not hesitate to write to daws.grubbs@future.aicz.ch.
URL:https://aicz.ch/event/caravaggio-a-multi-media-art-lecture-february-13-2025/
LOCATION:YVY\, Dufourstrasse 31\, Zürich\, 8008
CATEGORIES:Event
ORGANIZER;CN="AICZ Events":MAILTO:events@future.aicz.ch
END:VEVENT
END:VCALENDAR